BEGIN:VCALENDAR
VERSION:2.0
PRODID:-//Nassau Council of Chambers of Commerce - ECPv6.15.20//NONSGML v1.0//EN
CALSCALE:GREGORIAN
METHOD:PUBLISH
X-ORIGINAL-URL:https://ncchambers.org
X-WR-CALDESC:Events for Nassau Council of Chambers of Commerce
REFRESH-INTERVAL;VALUE=DURATION:PT1H
X-Robots-Tag:noindex
X-PUBLISHED-TTL:PT1H
BEGIN:VTIMEZONE
TZID:America/New_York
BEGIN:DAYLIGHT
TZOFFSETFROM:-0500
TZOFFSETTO:-0400
TZNAME:EDT
DTSTART:20170312T070000
END:DAYLIGHT
BEGIN:STANDARD
TZOFFSETFROM:-0400
TZOFFSETTO:-0500
TZNAME:EST
DTSTART:20171105T060000
END:STANDARD
BEGIN:DAYLIGHT
TZOFFSETFROM:-0500
TZOFFSETTO:-0400
TZNAME:EDT
DTSTART:20180311T070000
END:DAYLIGHT
BEGIN:STANDARD
TZOFFSETFROM:-0400
TZOFFSETTO:-0500
TZNAME:EST
DTSTART:20181104T060000
END:STANDARD
BEGIN:DAYLIGHT
TZOFFSETFROM:-0500
TZOFFSETTO:-0400
TZNAME:EDT
DTSTART:20190310T070000
END:DAYLIGHT
BEGIN:STANDARD
TZOFFSETFROM:-0400
TZOFFSETTO:-0500
TZNAME:EST
DTSTART:20191103T060000
END:STANDARD
BEGIN:DAYLIGHT
TZOFFSETFROM:-0500
TZOFFSETTO:-0400
TZNAME:EDT
DTSTART:20200308T070000
END:DAYLIGHT
BEGIN:STANDARD
TZOFFSETFROM:-0400
TZOFFSETTO:-0500
TZNAME:EST
DTSTART:20201101T060000
END:STANDARD
END:VTIMEZONE
BEGIN:VEVENT
DTSTART;TZID=America/New_York:20190926T040000
DTEND;TZID=America/New_York:20190926T053000
DTSTAMP:20260420T080753
CREATED:20181211T214256Z
LAST-MODIFIED:20190421T170915Z
UID:10000078-1569470400-1569475800@ncchambers.org
SUMMARY:General Meeting
DESCRIPTION:
URL:https://ncchambers.org/event/general-meeting-12/
LOCATION:The Bristol\, 40 Merrick Ave\, East Meadow\, NY\, 11445\, United States
CATEGORIES:General Meetings
END:VEVENT
BEGIN:VEVENT
DTSTART;TZID=America/New_York:20190822T040000
DTEND;TZID=America/New_York:20190822T053000
DTSTAMP:20260420T080754
CREATED:20181211T214213Z
LAST-MODIFIED:20190421T165924Z
UID:10000188-1566446400-1566451800@ncchambers.org
SUMMARY:General Meeting
DESCRIPTION:
URL:https://ncchambers.org/event/general-meeting-11/
LOCATION:The Bristol\, 40 Merrick Ave\, East Meadow\, NY\, 11445\, United States
CATEGORIES:General Meetings
END:VEVENT
BEGIN:VEVENT
DTSTART;TZID=America/New_York:20190725T040000
DTEND;TZID=America/New_York:20190725T053000
DTSTAMP:20260420T080754
CREATED:20181211T214138Z
LAST-MODIFIED:20190421T165952Z
UID:10000077-1564027200-1564032600@ncchambers.org
SUMMARY:General Meeting
DESCRIPTION:
URL:https://ncchambers.org/event/general-meeting-10/
LOCATION:The Bristol\, 40 Merrick Ave\, East Meadow\, NY\, 11445\, United States
CATEGORIES:General Meetings
END:VEVENT
BEGIN:VEVENT
DTSTART;TZID=America/New_York:20190627T040000
DTEND;TZID=America/New_York:20190627T053000
DTSTAMP:20260420T080754
CREATED:20181211T214102Z
LAST-MODIFIED:20190421T170015Z
UID:10000076-1561608000-1561613400@ncchambers.org
SUMMARY:General Meeting
DESCRIPTION:
URL:https://ncchambers.org/event/general-meeting-9/
LOCATION:The Bristol\, 40 Merrick Ave\, East Meadow\, NY\, 11445\, United States
CATEGORIES:General Meetings
END:VEVENT
BEGIN:VEVENT
DTSTART;TZID=America/New_York:20190523T040000
DTEND;TZID=America/New_York:20190523T053000
DTSTAMP:20260420T080754
CREATED:20181211T214016Z
LAST-MODIFIED:20190421T170045Z
UID:10000189-1558584000-1558589400@ncchambers.org
SUMMARY:General Meeting
DESCRIPTION:
URL:https://ncchambers.org/event/general-meeting-8/
LOCATION:The Bristol\, 40 Merrick Ave\, East Meadow\, NY\, 11445\, United States
CATEGORIES:General Meetings
END:VEVENT
BEGIN:VEVENT
DTSTART;TZID=America/New_York:20190425T040000
DTEND;TZID=America/New_York:20190425T053000
DTSTAMP:20260420T080754
CREATED:20181211T213940Z
LAST-MODIFIED:20190421T165242Z
UID:10000068-1556164800-1556170200@ncchambers.org
SUMMARY:General Meeting
DESCRIPTION:
URL:https://ncchambers.org/event/general-meeting-7/
LOCATION:The Bristol\, 40 Merrick Ave\, East Meadow\, NY\, 11445\, United States
END:VEVENT
BEGIN:VEVENT
DTSTART;TZID=America/New_York:20190328T040000
DTEND;TZID=America/New_York:20190328T053000
DTSTAMP:20260420T080754
CREATED:20181211T213902Z
LAST-MODIFIED:20190421T170154Z
UID:10000067-1553745600-1553751000@ncchambers.org
SUMMARY:General Meeting
DESCRIPTION:
URL:https://ncchambers.org/event/general-meeting-6/
LOCATION:The Bristol\, 40 Merrick Ave\, East Meadow\, NY\, 11445\, United States
CATEGORIES:General Meetings
END:VEVENT
BEGIN:VEVENT
DTSTART;TZID=America/New_York:20190228T030000
DTEND;TZID=America/New_York:20190228T043000
DTSTAMP:20260420T080754
CREATED:20181211T213827Z
LAST-MODIFIED:20190421T170226Z
UID:10000066-1551322800-1551328200@ncchambers.org
SUMMARY:General Meeting
DESCRIPTION:
URL:https://ncchambers.org/event/general-meeting-5/
LOCATION:The Bristol\, 40 Merrick Ave\, East Meadow\, NY\, 11445\, United States
CATEGORIES:General Meetings
END:VEVENT
BEGIN:VEVENT
DTSTART;TZID=America/New_York:20190124T030000
DTEND;TZID=America/New_York:20190124T043000
DTSTAMP:20260420T080754
CREATED:20181211T213715Z
LAST-MODIFIED:20190421T170323Z
UID:10000065-1548298800-1548304200@ncchambers.org
SUMMARY:General Meeting
DESCRIPTION:
URL:https://ncchambers.org/event/general-meeting-4/
LOCATION:The Bristol\, 40 Merrick Ave\, East Meadow\, NY\, 11445\, United States
CATEGORIES:General Meetings
END:VEVENT
BEGIN:VEVENT
DTSTART;TZID=America/New_York:20181220T030000
DTEND;TZID=America/New_York:20181220T043000
DTSTAMP:20260420T080754
CREATED:20180913T171359Z
LAST-MODIFIED:20190421T170354Z
UID:10000064-1545274800-1545280200@ncchambers.org
SUMMARY:General Meeting
DESCRIPTION:
URL:https://ncchambers.org/event/general-meeting-3/
LOCATION:The Bristol\, 40 Merrick Ave\, East Meadow\, NY\, 11445\, United States
CATEGORIES:General Meetings
END:VEVENT
BEGIN:VEVENT
DTSTART;TZID=America/New_York:20181115T030000
DTEND;TZID=America/New_York:20181115T043000
DTSTAMP:20260420T080754
CREATED:20180913T171316Z
LAST-MODIFIED:20190421T170414Z
UID:10000190-1542250800-1542256200@ncchambers.org
SUMMARY:General Meeting
DESCRIPTION:
URL:https://ncchambers.org/event/general-meeting-2/
LOCATION:The Bristol\, 40 Merrick Ave\, East Meadow\, NY\, 11445\, United States
CATEGORIES:General Meetings
END:VEVENT
BEGIN:VEVENT
DTSTART;TZID=America/New_York:20180927T040000
DTEND;TZID=America/New_York:20180927T050000
DTSTAMP:20260420T080754
CREATED:20180913T171218Z
LAST-MODIFIED:20190421T170533Z
UID:10000063-1538020800-1538024400@ncchambers.org
SUMMARY:General Meeting
DESCRIPTION:
URL:https://ncchambers.org/event/general-meeting/
LOCATION:The Bristol\, 40 Merrick Ave\, East Meadow\, NY\, 11445\, United States
CATEGORIES:General Meetings
END:VEVENT
END:VCALENDAR