BEGIN:VCALENDAR
VERSION:2.0
PRODID:-//Nassau Council of Chambers of Commerce - ECPv6.15.20//NONSGML v1.0//EN
CALSCALE:GREGORIAN
METHOD:PUBLISH
X-WR-CALNAME:Nassau Council of Chambers of Commerce
X-ORIGINAL-URL:https://ncchambers.org
X-WR-CALDESC:Events for Nassau Council of Chambers of Commerce
REFRESH-INTERVAL;VALUE=DURATION:PT1H
X-Robots-Tag:noindex
X-PUBLISHED-TTL:PT1H
BEGIN:VTIMEZONE
TZID:America/New_York
BEGIN:DAYLIGHT
TZOFFSETFROM:-0500
TZOFFSETTO:-0400
TZNAME:EDT
DTSTART:20170312T070000
END:DAYLIGHT
BEGIN:STANDARD
TZOFFSETFROM:-0400
TZOFFSETTO:-0500
TZNAME:EST
DTSTART:20171105T060000
END:STANDARD
BEGIN:DAYLIGHT
TZOFFSETFROM:-0500
TZOFFSETTO:-0400
TZNAME:EDT
DTSTART:20180311T070000
END:DAYLIGHT
BEGIN:STANDARD
TZOFFSETFROM:-0400
TZOFFSETTO:-0500
TZNAME:EST
DTSTART:20181104T060000
END:STANDARD
BEGIN:DAYLIGHT
TZOFFSETFROM:-0500
TZOFFSETTO:-0400
TZNAME:EDT
DTSTART:20190310T070000
END:DAYLIGHT
BEGIN:STANDARD
TZOFFSETFROM:-0400
TZOFFSETTO:-0500
TZNAME:EST
DTSTART:20191103T060000
END:STANDARD
BEGIN:DAYLIGHT
TZOFFSETFROM:-0500
TZOFFSETTO:-0400
TZNAME:EDT
DTSTART:20200308T070000
END:DAYLIGHT
BEGIN:STANDARD
TZOFFSETFROM:-0400
TZOFFSETTO:-0500
TZNAME:EST
DTSTART:20201101T060000
END:STANDARD
END:VTIMEZONE
BEGIN:VEVENT
DTSTART;TZID=America/New_York:20190228T030000
DTEND;TZID=America/New_York:20190228T043000
DTSTAMP:20260421T055209
CREATED:20181211T213827Z
LAST-MODIFIED:20190421T170226Z
UID:10000066-1551322800-1551328200@ncchambers.org
SUMMARY:General Meeting
DESCRIPTION:
URL:https://ncchambers.org/event/general-meeting-5/
LOCATION:The Bristol\, 40 Merrick Ave\, East Meadow\, NY\, 11445\, United States
CATEGORIES:General Meetings
END:VEVENT
BEGIN:VEVENT
DTSTART;TZID=America/New_York:20190124T030000
DTEND;TZID=America/New_York:20190124T043000
DTSTAMP:20260421T055209
CREATED:20181211T213715Z
LAST-MODIFIED:20190421T170323Z
UID:10000065-1548298800-1548304200@ncchambers.org
SUMMARY:General Meeting
DESCRIPTION:
URL:https://ncchambers.org/event/general-meeting-4/
LOCATION:The Bristol\, 40 Merrick Ave\, East Meadow\, NY\, 11445\, United States
CATEGORIES:General Meetings
END:VEVENT
BEGIN:VEVENT
DTSTART;TZID=America/New_York:20181220T030000
DTEND;TZID=America/New_York:20181220T043000
DTSTAMP:20260421T055209
CREATED:20180913T171359Z
LAST-MODIFIED:20190421T170354Z
UID:10000064-1545274800-1545280200@ncchambers.org
SUMMARY:General Meeting
DESCRIPTION:
URL:https://ncchambers.org/event/general-meeting-3/
LOCATION:The Bristol\, 40 Merrick Ave\, East Meadow\, NY\, 11445\, United States
CATEGORIES:General Meetings
END:VEVENT
BEGIN:VEVENT
DTSTART;TZID=America/New_York:20181115T030000
DTEND;TZID=America/New_York:20181115T043000
DTSTAMP:20260421T055209
CREATED:20180913T171316Z
LAST-MODIFIED:20190421T170414Z
UID:10000190-1542250800-1542256200@ncchambers.org
SUMMARY:General Meeting
DESCRIPTION:
URL:https://ncchambers.org/event/general-meeting-2/
LOCATION:The Bristol\, 40 Merrick Ave\, East Meadow\, NY\, 11445\, United States
CATEGORIES:General Meetings
END:VEVENT
BEGIN:VEVENT
DTSTART;TZID=America/New_York:20181019T030000
DTEND;TZID=America/New_York:20181019T060000
DTSTAMP:20260421T055209
CREATED:20180913T165636Z
LAST-MODIFIED:20180926T222755Z
UID:10000062-1539918000-1539928800@ncchambers.org
SUMMARY:34th Annual Small Business Person of the Year and Legislative Breakfast
DESCRIPTION:
URL:https://ncchambers.org/event/34th-annual-small-business-person-of-the-year-and-legislative-breakfast/
LOCATION:Crest Hollow Country Club
CATEGORIES:Annual Small Business Person of the Year
END:VEVENT
BEGIN:VEVENT
DTSTART;TZID=America/New_York:20180927T040000
DTEND;TZID=America/New_York:20180927T050000
DTSTAMP:20260421T055209
CREATED:20180913T171218Z
LAST-MODIFIED:20190421T170533Z
UID:10000063-1538020800-1538024400@ncchambers.org
SUMMARY:General Meeting
DESCRIPTION:
URL:https://ncchambers.org/event/general-meeting/
LOCATION:The Bristol\, 40 Merrick Ave\, East Meadow\, NY\, 11445\, United States
CATEGORIES:General Meetings
END:VEVENT
END:VCALENDAR