BEGIN:VCALENDAR
VERSION:2.0
PRODID:-//Nassau Council of Chambers of Commerce - ECPv6.15.20//NONSGML v1.0//EN
CALSCALE:GREGORIAN
METHOD:PUBLISH
X-WR-CALNAME:Nassau Council of Chambers of Commerce
X-ORIGINAL-URL:https://ncchambers.org
X-WR-CALDESC:Events for Nassau Council of Chambers of Commerce
REFRESH-INTERVAL;VALUE=DURATION:PT1H
X-Robots-Tag:noindex
X-PUBLISHED-TTL:PT1H
BEGIN:VTIMEZONE
TZID:America/New_York
BEGIN:DAYLIGHT
TZOFFSETFROM:-0500
TZOFFSETTO:-0400
TZNAME:EDT
DTSTART:20210314T070000
END:DAYLIGHT
BEGIN:STANDARD
TZOFFSETFROM:-0400
TZOFFSETTO:-0500
TZNAME:EST
DTSTART:20211107T060000
END:STANDARD
BEGIN:DAYLIGHT
TZOFFSETFROM:-0500
TZOFFSETTO:-0400
TZNAME:EDT
DTSTART:20220313T070000
END:DAYLIGHT
BEGIN:STANDARD
TZOFFSETFROM:-0400
TZOFFSETTO:-0500
TZNAME:EST
DTSTART:20221106T060000
END:STANDARD
BEGIN:DAYLIGHT
TZOFFSETFROM:-0500
TZOFFSETTO:-0400
TZNAME:EDT
DTSTART:20230312T070000
END:DAYLIGHT
BEGIN:STANDARD
TZOFFSETFROM:-0400
TZOFFSETTO:-0500
TZNAME:EST
DTSTART:20231105T060000
END:STANDARD
END:VTIMEZONE
BEGIN:VEVENT
DTSTART;TZID=America/New_York:20220830T100000
DTEND;TZID=America/New_York:20220830T170000
DTSTAMP:20260422T214536
CREATED:20220811T162808Z
LAST-MODIFIED:20220811T162808Z
UID:10000130-1661853600-1661878800@ncchambers.org
SUMMARY:Bethpage
DESCRIPTION:Click the button below to learn more about this upcoming event\, application\, and sponsorship form.								\n				\n				\n				\n									\n					\n						\n									Learn more
URL:https://ncchambers.org/event/bethpage/2022-08-30/
END:VEVENT
BEGIN:VEVENT
DTSTART;TZID=America/New_York:20220828T090000
DTEND;TZID=America/New_York:20220828T150000
DTSTAMP:20260422T214536
CREATED:20220811T200435Z
LAST-MODIFIED:20220811T200435Z
UID:10000027-1661677200-1661698800@ncchambers.org
SUMMARY:Village of Southampton
DESCRIPTION:Click the button below to learn more about this upcoming event\, application\, and sponsorship form.								\n				\n				\n				\n									\n					\n						\n									Learn more
URL:https://ncchambers.org/event/village-of-southampton/2022-08-28/
END:VEVENT
BEGIN:VEVENT
DTSTART;TZID=America/New_York:20220828T060000
DTEND;TZID=America/New_York:20220828T100000
DTSTAMP:20260422T214536
CREATED:20220809T224840Z
LAST-MODIFIED:20220809T224840Z
UID:10000114-1661666400-1661680800@ncchambers.org
SUMMARY:Farmingdale Farmers Market
DESCRIPTION:Click the button below to learn more about this upcoming event\, application\, and sponsorship form.								\n				\n				\n				\n									\n					\n						\n									Learn more
URL:https://ncchambers.org/event/farmingdale-farmers-market/2022-08-28/
END:VEVENT
BEGIN:VEVENT
DTSTART;TZID=America/New_York:20220827T190000
DTEND;TZID=America/New_York:20220827T220000
DTSTAMP:20260422T214536
CREATED:20220811T195206Z
LAST-MODIFIED:20220811T195206Z
UID:10000020-1661626800-1661637600@ncchambers.org
SUMMARY:Rocky Point
DESCRIPTION:Click the button below to learn more about this upcoming event\, application\, and sponsorship form.								\n				\n				\n				\n									\n					\n						\n									Learn more
URL:https://ncchambers.org/event/rocky-point/
CATEGORIES:Concert,Music
END:VEVENT
BEGIN:VEVENT
DTSTART;TZID=America/New_York:20220827T120000
DTEND;TZID=America/New_York:20220827T150000
DTSTAMP:20260422T214536
CREATED:20220811T182845Z
LAST-MODIFIED:20220811T182845Z
UID:10000138-1661601600-1661612400@ncchambers.org
SUMMARY:Village of Westbury Farmer’s Markets
DESCRIPTION:Click the button below to learn more about this upcoming event\, application\, and sponsorship form.								\n				\n				\n				\n									\n					\n						\n									Learn more
URL:https://ncchambers.org/event/village-of-westbury-farmers-markets/2022-08-27/
CATEGORIES:Farmers Market
END:VEVENT
BEGIN:VEVENT
DTSTART;TZID=America/New_York:20220827T100000
DTEND;TZID=America/New_York:20220827T150000
DTSTAMP:20260422T214536
CREATED:20220811T173752Z
LAST-MODIFIED:20220811T173752Z
UID:10000164-1661594400-1661612400@ncchambers.org
SUMMARY:City of Long Beach - Arts in the Plaza
DESCRIPTION:Click the button below to learn more about this upcoming event\, application\, and sponsorship form.								\n				\n				\n				\n									\n					\n						\n									Learn more
URL:https://ncchambers.org/event/city-of-long-beach-arts-in-the-plaza/2022-08-27/
CATEGORIES:Art Festival
END:VEVENT
BEGIN:VEVENT
DTSTART;TZID=America/New_York:20220827T090000
DTEND;TZID=America/New_York:20220827T130000
DTSTAMP:20260422T214536
CREATED:20220811T200654Z
LAST-MODIFIED:20220811T200654Z
UID:10000036-1661590800-1661605200@ncchambers.org
SUMMARY:St. James - Farmers and Artisan Market
DESCRIPTION:Click the button below to learn more about this upcoming event\, application\, and sponsorship form.								\n				\n				\n				\n									\n					\n						\n									Learn more
URL:https://ncchambers.org/event/st-james-farmers-and-artisan-market/2022-08-27/
CATEGORIES:Farmers Market
END:VEVENT
BEGIN:VEVENT
DTSTART;TZID=America/New_York:20220827T080000
DTEND;TZID=America/New_York:20220827T123000
DTSTAMP:20260422T214536
CREATED:20220811T193941Z
LAST-MODIFIED:20220811T193941Z
UID:10000213-1661587200-1661603400@ncchambers.org
SUMMARY:Northport – Farmers Market
DESCRIPTION:Click the button below to learn more about this upcoming event\, application\, and sponsorship form.								\n				\n				\n				\n									\n					\n						\n									Learn more
URL:https://ncchambers.org/event/northport-farmers-market/2022-08-27/
CATEGORIES:Farmers Market
END:VEVENT
BEGIN:VEVENT
DTSTART;TZID=America/New_York:20220827T070000
DTEND;TZID=America/New_York:20220827T120000
DTSTAMP:20260422T214536
CREATED:20220811T182435Z
LAST-MODIFIED:20220811T182435Z
UID:10000095-1661583600-1661601600@ncchambers.org
SUMMARY:Vlllage of Rockville Centre - Chamber of Commerce Farmers Market
DESCRIPTION:Click the button below to learn more about this upcoming event\, application\, and sponsorship form.								\n				\n				\n				\n									\n					\n						\n									Learn more
URL:https://ncchambers.org/event/vlllage-of-rockville-centre-chamber-of-commerce-farmers-market/2022-08-27/
CATEGORIES:Farmers Market
END:VEVENT
BEGIN:VEVENT
DTSTART;VALUE=DATE:20220827
DTEND;VALUE=DATE:20220828
DTSTAMP:20260422T214536
CREATED:20220809T012618Z
LAST-MODIFIED:20220825T173549Z
UID:10000084-1661558400-1661644799@ncchambers.org
SUMMARY:Bayville Summer Music Concerts
DESCRIPTION:Click the button below to learn more about this upcoming event\, application\, and sponsorship form.								\n				\n				\n				\n									\n					\n						\n									Learn more
URL:https://ncchambers.org/event/bayville-summer-music-concerts/
END:VEVENT
BEGIN:VEVENT
DTSTART;TZID=America/New_York:20220826T193000
DTEND;TZID=America/New_York:20220826T220000
DTSTAMP:20260422T214536
CREATED:20220811T192023Z
LAST-MODIFIED:20220811T192023Z
UID:10000202-1661542200-1661551200@ncchambers.org
SUMMARY:Kings Park Civic Association - Musical Moments In Kings Park
DESCRIPTION:Click the button below to learn more about this upcoming event\, application\, and sponsorship form.								\n				\n				\n				\n									\n					\n						\n									Learn more
URL:https://ncchambers.org/event/kings-park-civic-association-musical-moments-in-kings-park/2022-08-26/
CATEGORIES:Music
END:VEVENT
BEGIN:VEVENT
DTSTART;TZID=America/New_York:20220826T193000
DTEND;TZID=America/New_York:20220826T220000
DTSTAMP:20260422T214536
CREATED:20220811T172624Z
LAST-MODIFIED:20220811T172624Z
UID:10000180-1661542200-1661551200@ncchambers.org
SUMMARY:City of Glen Cove – Downtown Sounds
DESCRIPTION:Click the button below to learn more about this upcoming event\, application\, and sponsorship form.								\n				\n				\n				\n									\n					\n						\n									Learn more
URL:https://ncchambers.org/event/city-of-glen-cove-downtown-sounds/2022-08-26/
CATEGORIES:Music
END:VEVENT
BEGIN:VEVENT
DTSTART;TZID=America/New_York:20220826T180000
DTEND;TZID=America/New_York:20220826T220000
DTSTAMP:20260422T214536
CREATED:20220811T171336Z
LAST-MODIFIED:20220811T171336Z
UID:10000153-1661536800-1661551200@ncchambers.org
SUMMARY:Village of Garden City Friday Night Promenades
DESCRIPTION:Click the button below to learn more about this upcoming event\, application\, and sponsorship form.								\n				\n				\n				\n									\n					\n						\n									Learn more
URL:https://ncchambers.org/event/village-of-garden-city-friday-night-promenades/2022-08-26/
CATEGORIES:Music
END:VEVENT
BEGIN:VEVENT
DTSTART;TZID=America/New_York:20220825T200000
DTEND;TZID=America/New_York:20220825T200000
DTSTAMP:20260422T214536
CREATED:20220811T171957Z
LAST-MODIFIED:20220825T174634Z
UID:10000159-1661457600-1661457600@ncchambers.org
SUMMARY:Village of Great Neck Plaza's Summer Concert Series
DESCRIPTION:Click the button below to learn more about this upcoming event\, application\, and sponsorship form.								\n				\n				\n				\n									\n					\n						\n									Learn more
URL:https://ncchambers.org/event/village-of-great-neck-plazas-summer-concert-series/
CATEGORIES:Music
END:VEVENT
BEGIN:VEVENT
DTSTART;TZID=America/New_York:20220825T190000
DTEND;TZID=America/New_York:20220825T210000
DTSTAMP:20260422T214536
CREATED:20220811T183105Z
LAST-MODIFIED:20220811T183105Z
UID:10000003-1661454000-1661461200@ncchambers.org
SUMMARY:Village of Westbury - Westbury Arts – Summer Concert Series
DESCRIPTION:Click the button below to learn more about this upcoming event\, application\, and sponsorship form.								\n				\n				\n				\n									\n					\n						\n									Learn more
URL:https://ncchambers.org/event/village-of-westbury-westbury-arts-summer-concert-series/2022-08-25/
CATEGORIES:Concert
END:VEVENT
BEGIN:VEVENT
DTSTART;TZID=America/New_York:20220825T170000
DTEND;TZID=America/New_York:20220825T203000
DTSTAMP:20260422T214536
CREATED:20220811T194601Z
LAST-MODIFIED:20220811T194601Z
UID:10000018-1661446800-1661459400@ncchambers.org
SUMMARY:Village of Patchogue - Alive After 5
DESCRIPTION:Click the button below to learn more about this upcoming event\, application\, and sponsorship form.								\n				\n				\n				\n									\n					\n						\n									Learn more
URL:https://ncchambers.org/event/village-of-patchogue-alive-after-5/2022-08-25/
CATEGORIES:Festival
END:VEVENT
BEGIN:VEVENT
DTSTART;TZID=America/New_York:20220825T100000
DTEND;TZID=America/New_York:20220825T170000
DTSTAMP:20260422T214536
CREATED:20220811T190600Z
LAST-MODIFIED:20220811T190600Z
UID:10000009-1661421600-1661446800@ncchambers.org
SUMMARY:Village of Greenport
DESCRIPTION:Click the button below to learn more about this upcoming event\, application\, and sponsorship form.								\n				\n				\n				\n									\n					\n						\n									Learn more
URL:https://ncchambers.org/event/village-of-greenport/
CATEGORIES:Festival
END:VEVENT
BEGIN:VEVENT
DTSTART;TZID=America/New_York:20220825T100000
DTEND;TZID=America/New_York:20220825T170000
DTSTAMP:20260422T214536
CREATED:20220811T163220Z
LAST-MODIFIED:20220811T163220Z
UID:10000131-1661421600-1661446800@ncchambers.org
SUMMARY:Village of Bayville
DESCRIPTION:Click the button below to learn more about this upcoming event\, application\, and sponsorship form.								\n				\n				\n				\n									\n					\n						\n									Learn more
URL:https://ncchambers.org/event/village-of-bayville/
CATEGORIES:Music
END:VEVENT
BEGIN:VEVENT
DTSTART;TZID=America/New_York:20220824T193000
DTEND;TZID=America/New_York:20220824T220000
DTSTAMP:20260422T214536
CREATED:20220811T194316Z
LAST-MODIFIED:20220811T194316Z
UID:10000227-1661369400-1661378400@ncchambers.org
SUMMARY:Northport - Summerfest Concerts
DESCRIPTION:Click the button below to learn more about this upcoming event\, application\, and sponsorship form.								\n				\n				\n				\n									\n					\n						\n									Learn more
URL:https://ncchambers.org/event/northport-summerfest-concerts/2022-08-24/
CATEGORIES:Concert,Music
END:VEVENT
BEGIN:VEVENT
DTSTART;TZID=America/New_York:20220824T190000
DTEND;TZID=America/New_York:20220824T200000
DTSTAMP:20260422T214536
CREATED:20220811T174456Z
LAST-MODIFIED:20220811T174456Z
UID:10000176-1661367600-1661371200@ncchambers.org
SUMMARY:Village of Malverne
DESCRIPTION:Click the button below to learn more about this upcoming event\, application\, and sponsorship form.								\n				\n				\n				\n									\n					\n						\n									Learn more
URL:https://ncchambers.org/event/village-of-malverne/2022-08-24/2/
END:VEVENT
BEGIN:VEVENT
DTSTART;TZID=America/New_York:20220824T183000
DTEND;TZID=America/New_York:20220824T220000
DTSTAMP:20260422T214536
CREATED:20220811T173338Z
LAST-MODIFIED:20220811T173338Z
UID:10000161-1661365800-1661378400@ncchambers.org
SUMMARY:Village of Island Park
DESCRIPTION:Click the button below to learn more about this upcoming event\, application\, and sponsorship form.								\n				\n				\n				\n									\n					\n						\n									Learn more
URL:https://ncchambers.org/event/village-of-island-park/
END:VEVENT
BEGIN:VEVENT
DTSTART;TZID=America/New_York:20220824T170000
DTEND;TZID=America/New_York:20220824T210000
DTSTAMP:20260422T214536
CREATED:20220811T191705Z
LAST-MODIFIED:20220811T191705Z
UID:10000199-1661360400-1661374800@ncchambers.org
SUMMARY:Village of Lindenhurst - Wednesday's on Wellwood
DESCRIPTION:Click the button below to learn more about this upcoming event\, application\, and sponsorship form.								\n				\n				\n				\n									\n					\n						\n									Learn more
URL:https://ncchambers.org/event/village-of-lindenhurst-wednesdays-on-wellwood/2022-08-24/
CATEGORIES:Dining Shopping Entertainment
END:VEVENT
BEGIN:VEVENT
DTSTART;TZID=America/New_York:20220824T080000
DTEND;TZID=America/New_York:20220824T170000
DTSTAMP:20260422T214536
CREATED:20220811T174456Z
LAST-MODIFIED:20220811T174456Z
UID:10000175-1661328000-1661360400@ncchambers.org
SUMMARY:Village of Malverne
DESCRIPTION:Click the button below to learn more about this upcoming event\, application\, and sponsorship form.								\n				\n				\n				\n									\n					\n						\n									Learn more
URL:https://ncchambers.org/event/village-of-malverne/2022-08-24/1/
END:VEVENT
BEGIN:VEVENT
DTSTART;TZID=America/New_York:20220823T173000
DTEND;TZID=America/New_York:20220823T210000
DTSTAMP:20260422T214536
CREATED:20220811T180513Z
LAST-MODIFIED:20220811T180513Z
UID:10000196-1661275800-1661288400@ncchambers.org
SUMMARY:Oyster Bay - Cruise Night Car Show & Family Fun Night
DESCRIPTION:Click the button below to learn more about this upcoming event\, application\, and sponsorship form.								\n				\n				\n				\n									\n					\n						\n									Learn more
URL:https://ncchambers.org/event/oyster-bay-cruise-night-car-show-family-fun-night/2022-08-23/
CATEGORIES:Car Show & Festival
END:VEVENT
BEGIN:VEVENT
DTSTART;TZID=America/New_York:20220823T150000
DTEND;TZID=America/New_York:20220823T180000
DTSTAMP:20260422T214536
CREATED:20220809T215332Z
LAST-MODIFIED:20220809T215332Z
UID:10000091-1661266800-1661277600@ncchambers.org
SUMMARY:Cedarhurst - Summer Concert Series
DESCRIPTION:Click the button below to learn more about this upcoming event\, application\, and sponsorship form.								\n				\n				\n				\n									\n					\n						\n									Learn more
URL:https://ncchambers.org/event/cedarhurst-summer-concert-series/2022-08-23/
LOCATION:Andrew J. Parise Park\, 257 Cedarhurst Ave.\, Cedarhurst\, NY\, 11516\, United States
END:VEVENT
BEGIN:VEVENT
DTSTART;TZID=America/New_York:20220823T110000
DTEND;TZID=America/New_York:20220823T133000
DTSTAMP:20260422T214536
CREATED:20220811T184400Z
LAST-MODIFIED:20220811T184400Z
UID:10000007-1661252400-1661261400@ncchambers.org
SUMMARY:Bay Shore
DESCRIPTION:Click the button below to learn more about this upcoming event\, application\, and sponsorship form.								\n				\n				\n				\n									\n					\n						\n									Learn more
URL:https://ncchambers.org/event/bay-shore/2022-08-23/
CATEGORIES:Concert
END:VEVENT
BEGIN:VEVENT
DTSTART;TZID=America/New_York:20220821T110000
DTEND;TZID=America/New_York:20220821T150000
DTSTAMP:20260422T214536
CREATED:20220811T181542Z
LAST-MODIFIED:20220811T181542Z
UID:10000069-1661079600-1661094000@ncchambers.org
SUMMARY:Oyster Bay Main Street Association - The Oyster Bay Market
DESCRIPTION:Click the button below to learn more about this upcoming event\, application\, and sponsorship form.								\n				\n				\n				\n									\n					\n						\n									Learn more
URL:https://ncchambers.org/event/oyster-bay-main-street-association-the-oyster-bay-market/2022-08-21/
CATEGORIES:Market
END:VEVENT
BEGIN:VEVENT
DTSTART;TZID=America/New_York:20220821T090000
DTEND;TZID=America/New_York:20220821T150000
DTSTAMP:20260422T214536
CREATED:20220811T200435Z
LAST-MODIFIED:20220811T200435Z
UID:10000026-1661072400-1661094000@ncchambers.org
SUMMARY:Village of Southampton
DESCRIPTION:Click the button below to learn more about this upcoming event\, application\, and sponsorship form.								\n				\n				\n				\n									\n					\n						\n									Learn more
URL:https://ncchambers.org/event/village-of-southampton/2022-08-21/
END:VEVENT
BEGIN:VEVENT
DTSTART;TZID=America/New_York:20220821T080000
DTEND;TZID=America/New_York:20220821T170000
DTSTAMP:20260422T214536
CREATED:20220811T201151Z
LAST-MODIFIED:20220811T201151Z
UID:10000052-1661068800-1661101200@ncchambers.org
SUMMARY:West Sayville - Seafood Festival
DESCRIPTION:Click the button below to learn more about this upcoming event\, application\, and sponsorship form.								\n				\n				\n				\n									\n					\n						\n									Learn more
URL:https://ncchambers.org/event/west-sayville-seafood-festival/2022-08-21/
CATEGORIES:Seafood Festival
END:VEVENT
BEGIN:VEVENT
DTSTART;TZID=America/New_York:20220821T060000
DTEND;TZID=America/New_York:20220821T100000
DTSTAMP:20260422T214536
CREATED:20220809T224840Z
LAST-MODIFIED:20220809T224840Z
UID:10000113-1661061600-1661076000@ncchambers.org
SUMMARY:Farmingdale Farmers Market
DESCRIPTION:Click the button below to learn more about this upcoming event\, application\, and sponsorship form.								\n				\n				\n				\n									\n					\n						\n									Learn more
URL:https://ncchambers.org/event/farmingdale-farmers-market/2022-08-21/
END:VEVENT
END:VCALENDAR