BEGIN:VCALENDAR
VERSION:2.0
PRODID:-//Nassau Council of Chambers of Commerce - ECPv6.15.20//NONSGML v1.0//EN
CALSCALE:GREGORIAN
METHOD:PUBLISH
X-ORIGINAL-URL:https://ncchambers.org
X-WR-CALDESC:Events for Nassau Council of Chambers of Commerce
REFRESH-INTERVAL;VALUE=DURATION:PT1H
X-Robots-Tag:noindex
X-PUBLISHED-TTL:PT1H
BEGIN:VTIMEZONE
TZID:America/New_York
BEGIN:DAYLIGHT
TZOFFSETFROM:-0500
TZOFFSETTO:-0400
TZNAME:EDT
DTSTART:20210314T070000
END:DAYLIGHT
BEGIN:STANDARD
TZOFFSETFROM:-0400
TZOFFSETTO:-0500
TZNAME:EST
DTSTART:20211107T060000
END:STANDARD
BEGIN:DAYLIGHT
TZOFFSETFROM:-0500
TZOFFSETTO:-0400
TZNAME:EDT
DTSTART:20220313T070000
END:DAYLIGHT
BEGIN:STANDARD
TZOFFSETFROM:-0400
TZOFFSETTO:-0500
TZNAME:EST
DTSTART:20221106T060000
END:STANDARD
BEGIN:DAYLIGHT
TZOFFSETFROM:-0500
TZOFFSETTO:-0400
TZNAME:EDT
DTSTART:20230312T070000
END:DAYLIGHT
BEGIN:STANDARD
TZOFFSETFROM:-0400
TZOFFSETTO:-0500
TZNAME:EST
DTSTART:20231105T060000
END:STANDARD
END:VTIMEZONE
BEGIN:VEVENT
DTSTART;TZID=America/New_York:20220818T190000
DTEND;TZID=America/New_York:20220818T210000
DTSTAMP:20260423T064127
CREATED:20220811T183105Z
LAST-MODIFIED:20220811T183105Z
UID:10000002-1660849200-1660856400@ncchambers.org
SUMMARY:Village of Westbury - Westbury Arts – Summer Concert Series
DESCRIPTION:Click the button below to learn more about this upcoming event\, application\, and sponsorship form.								\n				\n				\n				\n									\n					\n						\n									Learn more
URL:https://ncchambers.org/event/village-of-westbury-westbury-arts-summer-concert-series/2022-08-18/
CATEGORIES:Concert
END:VEVENT
BEGIN:VEVENT
DTSTART;TZID=America/New_York:20220818T170000
DTEND;TZID=America/New_York:20220818T220000
DTSTAMP:20260423T064127
CREATED:20220811T182019Z
LAST-MODIFIED:20220811T182019Z
UID:10000079-1660842000-1660860000@ncchambers.org
SUMMARY:Port Washington – Port Outdoors
DESCRIPTION:Click the button below to learn more about this upcoming event\, application\, and sponsorship form.								\n				\n				\n				\n									\n					\n						\n									Learn more
URL:https://ncchambers.org/event/port-washington-port-outdoors/2022-08-18/
CATEGORIES:Dining Shopping Entertainment
END:VEVENT
BEGIN:VEVENT
DTSTART;TZID=America/New_York:20220818T130000
DTEND;TZID=America/New_York:20220818T170000
DTSTAMP:20260423T064127
CREATED:20220809T230724Z
LAST-MODIFIED:20220809T230854Z
UID:10000127-1660827600-1660842000@ncchambers.org
SUMMARY:Farmingdale Music on Main
DESCRIPTION:Click the button below to learn more about this upcoming event\, application\, and sponsorship form.								\n				\n				\n				\n									\n					\n						\n									Learn more
URL:https://ncchambers.org/event/farmingdale-music-on-main/
END:VEVENT
BEGIN:VEVENT
DTSTART;TZID=America/New_York:20220818T120000
DTEND;TZID=America/New_York:20220818T170000
DTSTAMP:20260423T064127
CREATED:20220811T193437Z
LAST-MODIFIED:20220811T193437Z
UID:10000210-1660824000-1660842000@ncchambers.org
SUMMARY:Northport - Cow Harbor Day
DESCRIPTION:Click the button below to learn more about this upcoming event\, application\, and sponsorship form.								\n				\n				\n				\n									\n					\n						\n									Learn more
URL:https://ncchambers.org/event/northport-cow-harbor-day/
CATEGORIES:Fair
END:VEVENT
BEGIN:VEVENT
DTSTART;TZID=America/New_York:20220818T110000
DTEND;TZID=America/New_York:20220818T170000
DTSTAMP:20260423T064127
CREATED:20220811T184845Z
LAST-MODIFIED:20220811T184845Z
UID:10000008-1660820400-1660842000@ncchambers.org
SUMMARY:Deer Park
DESCRIPTION:Click the button below to learn more about this upcoming event\, application\, and sponsorship form.								\n				\n				\n				\n									\n					\n						\n									Learn more
URL:https://ncchambers.org/event/deer-park/
CATEGORIES:Movies
END:VEVENT
BEGIN:VEVENT
DTSTART;TZID=America/New_York:20220818T100000
DTEND;TZID=America/New_York:20220818T170000
DTSTAMP:20260423T064127
CREATED:20220811T165630Z
LAST-MODIFIED:20220811T165630Z
UID:10000181-1660816800-1660842000@ncchambers.org
SUMMARY:Village of Farmingdale - Music on Main
DESCRIPTION:Click the button below to learn more about this upcoming event\, application\, and sponsorship form.								\n				\n				\n				\n									\n					\n						\n									Learn more
URL:https://ncchambers.org/event/village-of-farmingdale-music-on-main/
CATEGORIES:Music
END:VEVENT
BEGIN:VEVENT
DTSTART;TZID=America/New_York:20220817T193000
DTEND;TZID=America/New_York:20220817T220000
DTSTAMP:20260423T064127
CREATED:20220811T194316Z
LAST-MODIFIED:20220811T194316Z
UID:10000226-1660764600-1660773600@ncchambers.org
SUMMARY:Northport - Summerfest Concerts
DESCRIPTION:Click the button below to learn more about this upcoming event\, application\, and sponsorship form.								\n				\n				\n				\n									\n					\n						\n									Learn more
URL:https://ncchambers.org/event/northport-summerfest-concerts/2022-08-17/
CATEGORIES:Concert,Music
END:VEVENT
BEGIN:VEVENT
DTSTART;TZID=America/New_York:20220817T190000
DTEND;TZID=America/New_York:20220817T220000
DTSTAMP:20260423T064127
CREATED:20220811T192824Z
LAST-MODIFIED:20220811T192824Z
UID:10000205-1660762800-1660773600@ncchambers.org
SUMMARY:Medford - Chamber of Commerce Summer Concert Series
DESCRIPTION:Click the button below to learn more about this upcoming event\, application\, and sponsorship form.								\n				\n				\n				\n									\n					\n						\n									Learn more
URL:https://ncchambers.org/event/medford-chamber-of-commerce-summer-concert-series/2022-08-17/
CATEGORIES:Concert
END:VEVENT
BEGIN:VEVENT
DTSTART;TZID=America/New_York:20220817T170000
DTEND;TZID=America/New_York:20220817T210000
DTSTAMP:20260423T064127
CREATED:20220811T200843Z
LAST-MODIFIED:20220811T200843Z
UID:10000050-1660755600-1660770000@ncchambers.org
SUMMARY:St James - Summer Nights
DESCRIPTION:Click the button below to learn more about this upcoming event\, application\, and sponsorship form.								\n				\n				\n				\n									\n					\n						\n									Learn more
URL:https://ncchambers.org/event/st-james-summer-nights/
CATEGORIES:Car Show & Festival
END:VEVENT
BEGIN:VEVENT
DTSTART;TZID=America/New_York:20220816T173000
DTEND;TZID=America/New_York:20220816T210000
DTSTAMP:20260423T064127
CREATED:20220811T180513Z
LAST-MODIFIED:20220811T180513Z
UID:10000195-1660671000-1660683600@ncchambers.org
SUMMARY:Oyster Bay - Cruise Night Car Show & Family Fun Night
DESCRIPTION:Click the button below to learn more about this upcoming event\, application\, and sponsorship form.								\n				\n				\n				\n									\n					\n						\n									Learn more
URL:https://ncchambers.org/event/oyster-bay-cruise-night-car-show-family-fun-night/2022-08-16/
CATEGORIES:Car Show & Festival
END:VEVENT
BEGIN:VEVENT
DTSTART;TZID=America/New_York:20220816T150000
DTEND;TZID=America/New_York:20220816T180000
DTSTAMP:20260423T064127
CREATED:20220809T215332Z
LAST-MODIFIED:20220809T215332Z
UID:10000090-1660662000-1660672800@ncchambers.org
SUMMARY:Cedarhurst - Summer Concert Series
DESCRIPTION:Click the button below to learn more about this upcoming event\, application\, and sponsorship form.								\n				\n				\n				\n									\n					\n						\n									Learn more
URL:https://ncchambers.org/event/cedarhurst-summer-concert-series/2022-08-16/
LOCATION:Andrew J. Parise Park\, 257 Cedarhurst Ave.\, Cedarhurst\, NY\, 11516\, United States
END:VEVENT
BEGIN:VEVENT
DTSTART;TZID=America/New_York:20220815T110000
DTEND;TZID=America/New_York:20220815T133000
DTSTAMP:20260423T064127
CREATED:20220811T184400Z
LAST-MODIFIED:20220811T184400Z
UID:10000006-1660561200-1660570200@ncchambers.org
SUMMARY:Bay Shore
DESCRIPTION:Click the button below to learn more about this upcoming event\, application\, and sponsorship form.								\n				\n				\n				\n									\n					\n						\n									Learn more
URL:https://ncchambers.org/event/bay-shore/2022-08-15/
CATEGORIES:Concert
END:VEVENT
BEGIN:VEVENT
DTSTART;TZID=America/New_York:20220814T100000
DTEND;TZID=America/New_York:20220814T170000
DTSTAMP:20260423T064127
CREATED:20220811T200129Z
LAST-MODIFIED:20220811T200129Z
UID:10000024-1660471200-1660496400@ncchambers.org
SUMMARY:Smithtown
DESCRIPTION:Click the button below to learn more about this upcoming event\, application\, and sponsorship form.								\n				\n				\n				\n									\n					\n						\n									Learn more
URL:https://ncchambers.org/event/smithtown/
END:VEVENT
BEGIN:VEVENT
DTSTART;TZID=America/New_York:20220814T100000
DTEND;TZID=America/New_York:20220814T170000
DTSTAMP:20260423T064127
CREATED:20220811T193231Z
LAST-MODIFIED:20220811T193231Z
UID:10000209-1660471200-1660496400@ncchambers.org
SUMMARY:Northport - Art in the Park Festival
DESCRIPTION:Click the button below to learn more about this upcoming event\, application\, and sponsorship form.								\n				\n				\n				\n									\n					\n						\n									Learn more
URL:https://ncchambers.org/event/northport-art-in-the-park-festival/
CATEGORIES:Festival
END:VEVENT
BEGIN:VEVENT
DTSTART;TZID=America/New_York:20220814T090000
DTEND;TZID=America/New_York:20220814T150000
DTSTAMP:20260423T064127
CREATED:20220811T200435Z
LAST-MODIFIED:20220811T200435Z
UID:10000025-1660467600-1660489200@ncchambers.org
SUMMARY:Village of Southampton
DESCRIPTION:Click the button below to learn more about this upcoming event\, application\, and sponsorship form.								\n				\n				\n				\n									\n					\n						\n									Learn more
URL:https://ncchambers.org/event/village-of-southampton/2022-08-14/
END:VEVENT
BEGIN:VEVENT
DTSTART;TZID=America/New_York:20220814T060000
DTEND;TZID=America/New_York:20220814T100000
DTSTAMP:20260423T064127
CREATED:20220809T224840Z
LAST-MODIFIED:20220809T224840Z
UID:10000112-1660456800-1660471200@ncchambers.org
SUMMARY:Farmingdale Farmers Market
DESCRIPTION:Click the button below to learn more about this upcoming event\, application\, and sponsorship form.								\n				\n				\n				\n									\n					\n						\n									Learn more
URL:https://ncchambers.org/event/farmingdale-farmers-market/2022-08-14/
END:VEVENT
BEGIN:VEVENT
DTSTART;TZID=America/New_York:20220813T180000
DTEND;TZID=America/New_York:20220813T213000
DTSTAMP:20260423T064127
CREATED:20220811T175441Z
LAST-MODIFIED:20220811T175441Z
UID:10000192-1660413600-1660426200@ncchambers.org
SUMMARY:Manhasset
DESCRIPTION:Click the button below to learn more about this upcoming event\, application\, and sponsorship form.								\n				\n				\n				\n									\n					\n						\n									Learn more
URL:https://ncchambers.org/event/manhasset/2022-08-13/
CATEGORIES:Dining Shopping Entertainment
END:VEVENT
BEGIN:VEVENT
DTSTART;TZID=America/New_York:20220813T120000
DTEND;TZID=America/New_York:20220813T150000
DTSTAMP:20260423T064127
CREATED:20220811T182845Z
LAST-MODIFIED:20220811T182845Z
UID:10000136-1660392000-1660402800@ncchambers.org
SUMMARY:Village of Westbury Farmer’s Markets
DESCRIPTION:Click the button below to learn more about this upcoming event\, application\, and sponsorship form.								\n				\n				\n				\n									\n					\n						\n									Learn more
URL:https://ncchambers.org/event/village-of-westbury-farmers-markets/2022-08-13/
CATEGORIES:Farmers Market
END:VEVENT
BEGIN:VEVENT
DTSTART;TZID=America/New_York:20220813T100000
DTEND;TZID=America/New_York:20220813T150000
DTSTAMP:20260423T064127
CREATED:20220811T173752Z
LAST-MODIFIED:20220811T173752Z
UID:10000162-1660384800-1660402800@ncchambers.org
SUMMARY:City of Long Beach - Arts in the Plaza
DESCRIPTION:Click the button below to learn more about this upcoming event\, application\, and sponsorship form.								\n				\n				\n				\n									\n					\n						\n									Learn more
URL:https://ncchambers.org/event/city-of-long-beach-arts-in-the-plaza/2022-08-13/
CATEGORIES:Art Festival
END:VEVENT
BEGIN:VEVENT
DTSTART;TZID=America/New_York:20220813T090000
DTEND;TZID=America/New_York:20220813T140000
DTSTAMP:20260423T064127
CREATED:20220811T194918Z
LAST-MODIFIED:20220811T194918Z
UID:10000019-1660381200-1660399200@ncchambers.org
SUMMARY:Riverhead - 2022 Cardboard Boat Race
DESCRIPTION:Click the button below to learn more about this upcoming event\, application\, and sponsorship form.								\n				\n				\n				\n									\n					\n						\n									Learn more
URL:https://ncchambers.org/event/riverhead-2022-cardboard-boat-race/
CATEGORIES:Boat Race
END:VEVENT
BEGIN:VEVENT
DTSTART;TZID=America/New_York:20220813T090000
DTEND;TZID=America/New_York:20220813T130000
DTSTAMP:20260423T064127
CREATED:20220811T200654Z
LAST-MODIFIED:20220811T200654Z
UID:10000034-1660381200-1660395600@ncchambers.org
SUMMARY:St. James - Farmers and Artisan Market
DESCRIPTION:Click the button below to learn more about this upcoming event\, application\, and sponsorship form.								\n				\n				\n				\n									\n					\n						\n									Learn more
URL:https://ncchambers.org/event/st-james-farmers-and-artisan-market/2022-08-13/
CATEGORIES:Farmers Market
END:VEVENT
BEGIN:VEVENT
DTSTART;TZID=America/New_York:20220813T080000
DTEND;TZID=America/New_York:20220813T123000
DTSTAMP:20260423T064127
CREATED:20220811T193941Z
LAST-MODIFIED:20220811T193941Z
UID:10000211-1660377600-1660393800@ncchambers.org
SUMMARY:Northport – Farmers Market
DESCRIPTION:Click the button below to learn more about this upcoming event\, application\, and sponsorship form.								\n				\n				\n				\n									\n					\n						\n									Learn more
URL:https://ncchambers.org/event/northport-farmers-market/2022-08-13/
CATEGORIES:Farmers Market
END:VEVENT
BEGIN:VEVENT
DTSTART;TZID=America/New_York:20220813T070000
DTEND;TZID=America/New_York:20220813T120000
DTSTAMP:20260423T064127
CREATED:20220811T182435Z
LAST-MODIFIED:20220811T182435Z
UID:10000093-1660374000-1660392000@ncchambers.org
SUMMARY:Vlllage of Rockville Centre - Chamber of Commerce Farmers Market
DESCRIPTION:Click the button below to learn more about this upcoming event\, application\, and sponsorship form.								\n				\n				\n				\n									\n					\n						\n									Learn more
URL:https://ncchambers.org/event/vlllage-of-rockville-centre-chamber-of-commerce-farmers-market/2022-08-13/
CATEGORIES:Farmers Market
END:VEVENT
BEGIN:VEVENT
DTSTART;TZID=America/New_York:20220812T193000
DTEND;TZID=America/New_York:20220812T220000
DTSTAMP:20260423T064127
CREATED:20220811T192023Z
LAST-MODIFIED:20220811T192023Z
UID:10000201-1660332600-1660341600@ncchambers.org
SUMMARY:Kings Park Civic Association - Musical Moments In Kings Park
DESCRIPTION:Click the button below to learn more about this upcoming event\, application\, and sponsorship form.								\n				\n				\n				\n									\n					\n						\n									Learn more
URL:https://ncchambers.org/event/kings-park-civic-association-musical-moments-in-kings-park/2022-08-12/
CATEGORIES:Music
END:VEVENT
BEGIN:VEVENT
DTSTART;TZID=America/New_York:20220812T193000
DTEND;TZID=America/New_York:20220812T220000
DTSTAMP:20260423T064127
CREATED:20220811T172624Z
LAST-MODIFIED:20220811T172624Z
UID:10000178-1660332600-1660341600@ncchambers.org
SUMMARY:City of Glen Cove – Downtown Sounds
DESCRIPTION:Click the button below to learn more about this upcoming event\, application\, and sponsorship form.								\n				\n				\n				\n									\n					\n						\n									Learn more
URL:https://ncchambers.org/event/city-of-glen-cove-downtown-sounds/2022-08-12/
CATEGORIES:Music
END:VEVENT
BEGIN:VEVENT
DTSTART;TZID=America/New_York:20220812T190000
DTEND;TZID=America/New_York:20220812T210000
DTSTAMP:20260423T064127
CREATED:20220811T180933Z
LAST-MODIFIED:20220811T180933Z
UID:10000174-1660330800-1660338000@ncchambers.org
SUMMARY:Oyster Bay Main Street Association – Dancing in the Street
DESCRIPTION:Click the button below to learn more about this upcoming event\, application\, and sponsorship form.								\n				\n				\n				\n									\n					\n						\n									Learn more
URL:https://ncchambers.org/event/oyster-bay-main-street-association-dancing-in-the-street/
CATEGORIES:Music
END:VEVENT
BEGIN:VEVENT
DTSTART;TZID=America/New_York:20220812T180000
DTEND;TZID=America/New_York:20220812T220000
DTSTAMP:20260423T064127
CREATED:20220811T171336Z
LAST-MODIFIED:20220811T171336Z
UID:10000151-1660327200-1660341600@ncchambers.org
SUMMARY:Village of Garden City Friday Night Promenades
DESCRIPTION:Click the button below to learn more about this upcoming event\, application\, and sponsorship form.								\n				\n				\n				\n									\n					\n						\n									Learn more
URL:https://ncchambers.org/event/village-of-garden-city-friday-night-promenades/2022-08-12/
CATEGORIES:Music
END:VEVENT
BEGIN:VEVENT
DTSTART;TZID=America/New_York:20220812T180000
DTEND;TZID=America/New_York:20220812T200000
DTSTAMP:20260423T064127
CREATED:20220811T172918Z
LAST-MODIFIED:20220811T172918Z
UID:10000160-1660327200-1660334400@ncchambers.org
SUMMARY:Village of Hempstead
DESCRIPTION:Click the button below to learn more about this upcoming event\, application\, and sponsorship form.								\n				\n				\n				\n									\n					\n						\n									Learn more
URL:https://ncchambers.org/event/village-of-hempstead/
CATEGORIES:Gospel
END:VEVENT
BEGIN:VEVENT
DTSTART;TZID=America/New_York:20220811T193000
DTEND;TZID=America/New_York:20220811T220000
DTSTAMP:20260423T064127
CREATED:20220811T165830Z
LAST-MODIFIED:20220811T165830Z
UID:10000149-1660246200-1660255200@ncchambers.org
SUMMARY:Village of Floral Park – Library Concert Series
DESCRIPTION:Click the button below to learn more about this upcoming event\, application\, and sponsorship form.								\n				\n				\n				\n									\n					\n						\n									Learn more
URL:https://ncchambers.org/event/village-of-floral-park-library-concert-series/
CATEGORIES:Music
END:VEVENT
BEGIN:VEVENT
DTSTART;TZID=America/New_York:20220811T190000
DTEND;TZID=America/New_York:20220811T220000
DTSTAMP:20260423T064127
CREATED:20220811T171636Z
LAST-MODIFIED:20220811T171636Z
UID:10000157-1660244400-1660255200@ncchambers.org
SUMMARY:Village of Garden City - Gazebo Concerts on the Village Green
DESCRIPTION:Click the button below to learn more about this upcoming event\, application\, and sponsorship form.								\n				\n				\n				\n									\n					\n						\n									Learn more
URL:https://ncchambers.org/event/village-of-garden-city-gazebo-concerts-on-the-village-green/2022-08-11/
CATEGORIES:Music
END:VEVENT
END:VCALENDAR