BEGIN:VCALENDAR
VERSION:2.0
PRODID:-//Nassau Council of Chambers of Commerce - ECPv6.15.20//NONSGML v1.0//EN
CALSCALE:GREGORIAN
METHOD:PUBLISH
X-WR-CALNAME:Nassau Council of Chambers of Commerce
X-ORIGINAL-URL:https://ncchambers.org
X-WR-CALDESC:Events for Nassau Council of Chambers of Commerce
REFRESH-INTERVAL;VALUE=DURATION:PT1H
X-Robots-Tag:noindex
X-PUBLISHED-TTL:PT1H
BEGIN:VTIMEZONE
TZID:America/New_York
BEGIN:DAYLIGHT
TZOFFSETFROM:-0500
TZOFFSETTO:-0400
TZNAME:EDT
DTSTART:20220313T070000
END:DAYLIGHT
BEGIN:STANDARD
TZOFFSETFROM:-0400
TZOFFSETTO:-0500
TZNAME:EST
DTSTART:20221106T060000
END:STANDARD
BEGIN:DAYLIGHT
TZOFFSETFROM:-0500
TZOFFSETTO:-0400
TZNAME:EDT
DTSTART:20230312T070000
END:DAYLIGHT
BEGIN:STANDARD
TZOFFSETFROM:-0400
TZOFFSETTO:-0500
TZNAME:EST
DTSTART:20231105T060000
END:STANDARD
BEGIN:DAYLIGHT
TZOFFSETFROM:-0500
TZOFFSETTO:-0400
TZNAME:EDT
DTSTART:20240310T070000
END:DAYLIGHT
BEGIN:STANDARD
TZOFFSETFROM:-0400
TZOFFSETTO:-0500
TZNAME:EST
DTSTART:20241103T060000
END:STANDARD
END:VTIMEZONE
BEGIN:VEVENT
DTSTART;VALUE=DATE:20231125
DTEND;VALUE=DATE:20231224
DTSTAMP:20260419T110727
CREATED:20231204T141213Z
LAST-MODIFIED:20231204T141213Z
UID:10000611-1700870400-1703375999@ncchambers.org
SUMMARY:Rockville Centre - The Snowman Hunt
DESCRIPTION:Rockville Centre\nThe Snowman Hunt is back for its 8th year. The Snowman Hunt begins on Small Business Saturday\nNovember 25th and ends on December 23rd. Shop local and have fun. \nClick HERE for details.
URL:https://ncchambers.org/event/rockville-centre-the-snowman-hunt/
CATEGORIES:Holiday
END:VEVENT
END:VCALENDAR