BEGIN:VCALENDAR
VERSION:2.0
PRODID:-//Nassau Council of Chambers of Commerce - ECPv6.15.20//NONSGML v1.0//EN
CALSCALE:GREGORIAN
METHOD:PUBLISH
X-ORIGINAL-URL:https://ncchambers.org
X-WR-CALDESC:Events for Nassau Council of Chambers of Commerce
REFRESH-INTERVAL;VALUE=DURATION:PT1H
X-Robots-Tag:noindex
X-PUBLISHED-TTL:PT1H
BEGIN:VTIMEZONE
TZID:America/New_York
BEGIN:DAYLIGHT
TZOFFSETFROM:-0500
TZOFFSETTO:-0400
TZNAME:EDT
DTSTART:20210314T070000
END:DAYLIGHT
BEGIN:STANDARD
TZOFFSETFROM:-0400
TZOFFSETTO:-0500
TZNAME:EST
DTSTART:20211107T060000
END:STANDARD
BEGIN:DAYLIGHT
TZOFFSETFROM:-0500
TZOFFSETTO:-0400
TZNAME:EDT
DTSTART:20220313T070000
END:DAYLIGHT
BEGIN:STANDARD
TZOFFSETFROM:-0400
TZOFFSETTO:-0500
TZNAME:EST
DTSTART:20221106T060000
END:STANDARD
BEGIN:DAYLIGHT
TZOFFSETFROM:-0500
TZOFFSETTO:-0400
TZNAME:EDT
DTSTART:20230312T070000
END:DAYLIGHT
BEGIN:STANDARD
TZOFFSETFROM:-0400
TZOFFSETTO:-0500
TZNAME:EST
DTSTART:20231105T060000
END:STANDARD
END:VTIMEZONE
BEGIN:VEVENT
DTSTART;TZID=America/New_York:20221201T080000
DTEND;TZID=America/New_York:20221201T100000
DTSTAMP:20260421T173348
CREATED:20221120T194036Z
LAST-MODIFIED:20221120T194346Z
UID:10000234-1669881600-1669888800@ncchambers.org
SUMMARY:Small Business Opportunities
DESCRIPTION:Your presence is welcomed to join this forum. There is no cost for attending this event and breakfast will be served \nPlease RSVP by November 25th \n 
URL:https://ncchambers.org/event/small-business-opportunities/
LOCATION:South Farmingdale Fire District\, 819 Main Street\, Farmingdale\, NY\, 11735\, United States
ORGANIZER;CN="Nassau Suffolk Chamber":MAILTO:dec1NassauSuffolkChamberRSVP@gmail.com
END:VEVENT
BEGIN:VEVENT
DTSTART;TZID=America/New_York:20221201T180000
DTEND;TZID=America/New_York:20221201T190000
DTSTAMP:20260421T173348
CREATED:20221120T195242Z
LAST-MODIFIED:20221120T204522Z
UID:10000237-1669917600-1669921200@ncchambers.org
SUMMARY:East Meadow Chamber Holiday Lighting
DESCRIPTION:
URL:https://ncchambers.org/event/east-meadow-chamber-holiday-lighting/
LOCATION:Town of Hempstead Veterans Memoral Park\, 1700 Prospect Ave. Town Square\, East Meadow\, AL\, 11554\, United States
CATEGORIES:Chamber Event
END:VEVENT
BEGIN:VEVENT
DTSTART;TZID=America/New_York:20221201T190000
DTEND;TZID=America/New_York:20221201T230000
DTSTAMP:20260421T173348
CREATED:20221120T195538Z
LAST-MODIFIED:20221120T195611Z
UID:10000053-1669921200-1669935600@ncchambers.org
SUMMARY:LI African American Chamber Holiday Gala
DESCRIPTION:
URL:https://ncchambers.org/event/li-african-american-chamber-holiday-gala/
LOCATION:Jericho Terrace\, 249 Jericho Tpke.\, Mineola\, NY\, 11501\, United States
CATEGORIES:Chamber Event
END:VEVENT
BEGIN:VEVENT
DTSTART;TZID=America/New_York:20221202T080000
DTEND;TZID=America/New_York:20221202T170000
DTSTAMP:20260421T173348
CREATED:20220811T202150Z
LAST-MODIFIED:20220811T202150Z
UID:10000231-1669968000-1670000400@ncchambers.org
SUMMARY:Vision Long Island/LI Main Street Alliance
DESCRIPTION:LI Smart Growth Summit \nDecember 2nd\, Crest Hollow Country Club – fee – 631-261-0242
URL:https://ncchambers.org/event/vision-long-island-li-main-street-alliance/
CATEGORIES:Board Meetings
END:VEVENT
BEGIN:VEVENT
DTSTART;TZID=America/New_York:20221203T070000
DTEND;TZID=America/New_York:20221203T120000
DTSTAMP:20260421T173348
CREATED:20220811T182435Z
LAST-MODIFIED:20220811T182435Z
UID:10000109-1670050800-1670068800@ncchambers.org
SUMMARY:Vlllage of Rockville Centre - Chamber of Commerce Farmers Market
DESCRIPTION:Every Sunday from 7 AM to noon\, through December 18\, 2022\, at Municipal Parking Field 12\, along the north side of Sunrise Highway\, between Long Beach Road and North Forest Avenue. https://www.facebook.com/RVCChamberofCommerce
URL:https://ncchambers.org/event/vlllage-of-rockville-centre-chamber-of-commerce-farmers-market/2022-12-03/
CATEGORIES:Farmers Market
END:VEVENT
BEGIN:VEVENT
DTSTART;TZID=America/New_York:20221203T180000
DTEND;TZID=America/New_York:20221203T190000
DTSTAMP:20260421T173348
CREATED:20221120T195945Z
LAST-MODIFIED:20221120T204448Z
UID:10000054-1670090400-1670094000@ncchambers.org
SUMMARY:Massapequa Chamber Holiday Lighting
DESCRIPTION:Click HERE for the Sponsorship Application \nClick HERE for Raffle Donation Form
URL:https://ncchambers.org/event/massapequa-chamber-holiday-lighting/
LOCATION:Klestinec Park\, Broadway\, Massapequa\, NY\, 11758\, United States
CATEGORIES:Chamber Event
END:VEVENT
BEGIN:VEVENT
DTSTART;TZID=America/New_York:20221203T190000
DTEND;TZID=America/New_York:20221203T210000
DTSTAMP:20260421T173348
CREATED:20221120T200140Z
LAST-MODIFIED:20221120T204440Z
UID:10000055-1670094000-1670101200@ncchambers.org
SUMMARY:Freeport Chamber Holiday Boat Parade
DESCRIPTION:
URL:https://ncchambers.org/event/freeport-chamber-holiday-boat-parade/
LOCATION:Woodcleft Esplanade\, NY\, United States
CATEGORIES:Chamber Event
END:VEVENT
BEGIN:VEVENT
DTSTART;TZID=America/New_York:20221204T153000
DTEND;TZID=America/New_York:20221204T170000
DTSTAMP:20260421T173348
CREATED:20221120T201449Z
LAST-MODIFIED:20221120T201449Z
UID:10000056-1670167800-1670173200@ncchambers.org
SUMMARY:Syosset Chamber Holiday Lighting Spectacular
DESCRIPTION:
URL:https://ncchambers.org/event/syosset-chamber-holiday-lighting-spectacular/
LOCATION:Town Center\, 50 Jackson Ave.\, Syosset\, NY\, 11791\, United States
CATEGORIES:Chamber Event
END:VEVENT
BEGIN:VEVENT
DTSTART;TZID=America/New_York:20221205T180000
DTEND;TZID=America/New_York:20221205T200000
DTSTAMP:20260421T173348
CREATED:20221120T201845Z
LAST-MODIFIED:20221120T201845Z
UID:10000057-1670263200-1670270400@ncchambers.org
SUMMARY:Levittown Chamber Holiday Tree Lighting
DESCRIPTION:Home
URL:https://ncchambers.org/event/levittown-chamber-holiday-tree-lighting/
LOCATION:Veterans Memorial Park\, Hempstead Turnpike\, Levittown\, NY\, 11756\, United States
CATEGORIES:Chamber Event
END:VEVENT
BEGIN:VEVENT
DTSTART;TZID=America/New_York:20221210T070000
DTEND;TZID=America/New_York:20221210T120000
DTSTAMP:20260421T173348
CREATED:20220811T182435Z
LAST-MODIFIED:20220811T182435Z
UID:10000110-1670655600-1670673600@ncchambers.org
SUMMARY:Vlllage of Rockville Centre - Chamber of Commerce Farmers Market
DESCRIPTION:Every Sunday from 7 AM to noon\, through December 18\, 2022\, at Municipal Parking Field 12\, along the north side of Sunrise Highway\, between Long Beach Road and North Forest Avenue. https://www.facebook.com/RVCChamberofCommerce
URL:https://ncchambers.org/event/vlllage-of-rockville-centre-chamber-of-commerce-farmers-market/2022-12-10/
CATEGORIES:Farmers Market
END:VEVENT
BEGIN:VEVENT
DTSTART;TZID=America/New_York:20221210T110000
DTEND;TZID=America/New_York:20221210T130000
DTSTAMP:20260421T173348
CREATED:20221120T202054Z
LAST-MODIFIED:20221120T204404Z
UID:10000059-1670670000-1670677200@ncchambers.org
SUMMARY:NS Hispanic Chamber Holiday Toy Drive
DESCRIPTION:
URL:https://ncchambers.org/event/ns-hispanic-chamber-holiday-toy-drive/
CATEGORIES:Chamber Event
END:VEVENT
BEGIN:VEVENT
DTSTART;TZID=America/New_York:20221210T170000
DTEND;TZID=America/New_York:20221210T200000
DTSTAMP:20260421T173348
CREATED:20221120T201958Z
LAST-MODIFIED:20221120T204352Z
UID:10000058-1670691600-1670702400@ncchambers.org
SUMMARY:Point Lookout Chamber Holiday Stroll
DESCRIPTION:
URL:https://ncchambers.org/event/point-lookout-chamber-holiday-stroll/
CATEGORIES:Chamber Event
END:VEVENT
BEGIN:VEVENT
DTSTART;VALUE=DATE:20221217
DTEND;VALUE=DATE:20221218
DTSTAMP:20260421T173348
CREATED:20221118T230756Z
LAST-MODIFIED:20221120T204341Z
UID:10000232-1671235200-1671321599@ncchambers.org
SUMMARY:Long Island Hispanic Chamber of Commerce 32nd Annual Gala
DESCRIPTION:For additional information please contact LIHCC:\n				\n\n						516-333-0105\nadmin@lihcc.org					 \n							\n		\n							\n		\n							\n		\n														Previous\n														Next
URL:https://ncchambers.org/event/long-island-hispanic-chamber-of-commerce-32nd-annual-gala/
LOCATION:Crescent Beach Club\, 333 Bayville Ave.\, Bayville\, NY\, 11709\, United States
CATEGORIES:Chamber Event
ATTACH;FMTTYPE=image/jpeg:https://ncchambers.org/wp-content/uploads/2022/11/LIHCC-Gala-featured.jpg
ORGANIZER;CN="Long Island Hispanic COC":MAILTO:admin@lihcc.org
END:VEVENT
BEGIN:VEVENT
DTSTART;TZID=America/New_York:20221217T070000
DTEND;TZID=America/New_York:20221217T120000
DTSTAMP:20260421T173348
CREATED:20220811T182435Z
LAST-MODIFIED:20220811T182435Z
UID:10000111-1671260400-1671278400@ncchambers.org
SUMMARY:Vlllage of Rockville Centre - Chamber of Commerce Farmers Market
DESCRIPTION:Every Sunday from 7 AM to noon\, through December 18\, 2022\, at Municipal Parking Field 12\, along the north side of Sunrise Highway\, between Long Beach Road and North Forest Avenue. https://www.facebook.com/RVCChamberofCommerce
URL:https://ncchambers.org/event/vlllage-of-rockville-centre-chamber-of-commerce-farmers-market/2022-12-17/
CATEGORIES:Farmers Market
END:VEVENT
END:VCALENDAR