BEGIN:VCALENDAR
VERSION:2.0
PRODID:-//Nassau Council of Chambers of Commerce - ECPv6.15.20//NONSGML v1.0//EN
CALSCALE:GREGORIAN
METHOD:PUBLISH
X-ORIGINAL-URL:https://ncchambers.org
X-WR-CALDESC:Events for Nassau Council of Chambers of Commerce
REFRESH-INTERVAL;VALUE=DURATION:PT1H
X-Robots-Tag:noindex
X-PUBLISHED-TTL:PT1H
BEGIN:VTIMEZONE
TZID:America/New_York
BEGIN:DAYLIGHT
TZOFFSETFROM:-0500
TZOFFSETTO:-0400
TZNAME:EDT
DTSTART:20210314T070000
END:DAYLIGHT
BEGIN:STANDARD
TZOFFSETFROM:-0400
TZOFFSETTO:-0500
TZNAME:EST
DTSTART:20211107T060000
END:STANDARD
BEGIN:DAYLIGHT
TZOFFSETFROM:-0500
TZOFFSETTO:-0400
TZNAME:EDT
DTSTART:20220313T070000
END:DAYLIGHT
BEGIN:STANDARD
TZOFFSETFROM:-0400
TZOFFSETTO:-0500
TZNAME:EST
DTSTART:20221106T060000
END:STANDARD
BEGIN:DAYLIGHT
TZOFFSETFROM:-0500
TZOFFSETTO:-0400
TZNAME:EDT
DTSTART:20230312T070000
END:DAYLIGHT
BEGIN:STANDARD
TZOFFSETFROM:-0400
TZOFFSETTO:-0500
TZNAME:EST
DTSTART:20231105T060000
END:STANDARD
END:VTIMEZONE
BEGIN:VEVENT
DTSTART;TZID=America/New_York:20220922T170000
DTEND;TZID=America/New_York:20220922T220000
DTSTAMP:20260422T133704
CREATED:20220811T182019Z
LAST-MODIFIED:20220811T182019Z
UID:10000081-1663866000-1663884000@ncchambers.org
SUMMARY:Port Washington – Port Outdoors
DESCRIPTION:Click the button below to learn more about this upcoming event\, application\, and sponsorship form.								\n				\n				\n				\n									\n					\n						\n									Learn more
URL:https://ncchambers.org/event/port-washington-port-outdoors/2022-09-22/
CATEGORIES:Dining Shopping Entertainment
END:VEVENT
BEGIN:VEVENT
DTSTART;VALUE=DATE:20220923
DTEND;VALUE=DATE:20220927
DTSTAMP:20260422T133704
CREATED:20220811T163650Z
LAST-MODIFIED:20220826T144815Z
UID:10000133-1663891200-1664236799@ncchambers.org
SUMMARY:Bellmore - Family Street Festival
DESCRIPTION:Click the button below to learn more about this upcoming event\, application\, and sponsorship form.								\n				\n				\n				\n									\n					\n						\n									Learn more
URL:https://ncchambers.org/event/bellmore-family-street-festival-2/2022-09-23/
CATEGORIES:Street Festival
END:VEVENT
BEGIN:VEVENT
DTSTART;VALUE=DATE:20220924
DTEND;VALUE=DATE:20220928
DTSTAMP:20260422T133704
CREATED:20220811T163650Z
LAST-MODIFIED:20220826T144815Z
UID:10000134-1663977600-1664323199@ncchambers.org
SUMMARY:Bellmore - Family Street Festival
DESCRIPTION:Click the button below to learn more about this upcoming event\, application\, and sponsorship form.								\n				\n				\n				\n									\n					\n						\n									Learn more
URL:https://ncchambers.org/event/bellmore-family-street-festival-2/2022-09-24/
CATEGORIES:Street Festival
END:VEVENT
BEGIN:VEVENT
DTSTART;TZID=America/New_York:20220924T070000
DTEND;TZID=America/New_York:20220924T120000
DTSTAMP:20260422T133704
CREATED:20220811T182435Z
LAST-MODIFIED:20220811T182435Z
UID:10000099-1664002800-1664020800@ncchambers.org
SUMMARY:Vlllage of Rockville Centre - Chamber of Commerce Farmers Market
DESCRIPTION:Click the button below to learn more about this upcoming event\, application\, and sponsorship form.								\n				\n				\n				\n									\n					\n						\n									Learn more
URL:https://ncchambers.org/event/vlllage-of-rockville-centre-chamber-of-commerce-farmers-market/2022-09-24/
CATEGORIES:Farmers Market
END:VEVENT
BEGIN:VEVENT
DTSTART;TZID=America/New_York:20220924T080000
DTEND;TZID=America/New_York:20220924T123000
DTSTAMP:20260422T133704
CREATED:20220811T193941Z
LAST-MODIFIED:20220811T193941Z
UID:10000217-1664006400-1664022600@ncchambers.org
SUMMARY:Northport – Farmers Market
DESCRIPTION:Click the button below to learn more about this upcoming event\, application\, and sponsorship form.								\n				\n				\n				\n									\n					\n						\n									Learn more
URL:https://ncchambers.org/event/northport-farmers-market/2022-09-24/
CATEGORIES:Farmers Market
END:VEVENT
BEGIN:VEVENT
DTSTART;TZID=America/New_York:20220924T090000
DTEND;TZID=America/New_York:20220924T130000
DTSTAMP:20260422T133704
CREATED:20220811T200654Z
LAST-MODIFIED:20220811T200654Z
UID:10000040-1664010000-1664024400@ncchambers.org
SUMMARY:St. James - Farmers and Artisan Market
DESCRIPTION:Click the button below to learn more about this upcoming event\, application\, and sponsorship form.								\n				\n				\n				\n									\n					\n						\n									Learn more
URL:https://ncchambers.org/event/st-james-farmers-and-artisan-market/2022-09-24/
CATEGORIES:Farmers Market
END:VEVENT
BEGIN:VEVENT
DTSTART;TZID=America/New_York:20220924T100000
DTEND;TZID=America/New_York:20220924T150000
DTSTAMP:20260422T133704
CREATED:20220811T173752Z
LAST-MODIFIED:20220811T173752Z
UID:10000168-1664013600-1664031600@ncchambers.org
SUMMARY:City of Long Beach - Arts in the Plaza
DESCRIPTION:Click the button below to learn more about this upcoming event\, application\, and sponsorship form.								\n				\n				\n				\n									\n					\n						\n									Learn more
URL:https://ncchambers.org/event/city-of-long-beach-arts-in-the-plaza/2022-09-24/
CATEGORIES:Art Festival
END:VEVENT
BEGIN:VEVENT
DTSTART;TZID=America/New_York:20220924T100000
DTEND;TZID=America/New_York:20220924T170000
DTSTAMP:20260422T133704
CREATED:20220811T193050Z
LAST-MODIFIED:20220811T193050Z
UID:10000207-1664013600-1664038800@ncchambers.org
SUMMARY:Middle Island
DESCRIPTION:Click the button below to learn more about this upcoming event\, application\, and sponsorship form.								\n				\n				\n				\n									\n					\n						\n									Learn more
URL:https://ncchambers.org/event/middle-island/2022-09-24/
CATEGORIES:Fair
END:VEVENT
BEGIN:VEVENT
DTSTART;TZID=America/New_York:20220924T120000
DTEND;TZID=America/New_York:20220924T150000
DTSTAMP:20260422T133704
CREATED:20220811T182845Z
LAST-MODIFIED:20220811T182845Z
UID:10000142-1664020800-1664031600@ncchambers.org
SUMMARY:Village of Westbury Farmer’s Markets
DESCRIPTION:Click the button below to learn more about this upcoming event\, application\, and sponsorship form.								\n				\n				\n				\n									\n					\n						\n									Learn more
URL:https://ncchambers.org/event/village-of-westbury-farmers-markets/2022-09-24/
CATEGORIES:Farmers Market
END:VEVENT
BEGIN:VEVENT
DTSTART;VALUE=DATE:20220925
DTEND;VALUE=DATE:20220929
DTSTAMP:20260422T133704
CREATED:20220811T163650Z
LAST-MODIFIED:20220826T144815Z
UID:10000135-1664064000-1664409599@ncchambers.org
SUMMARY:Bellmore - Family Street Festival
DESCRIPTION:Click the button below to learn more about this upcoming event\, application\, and sponsorship form.								\n				\n				\n				\n									\n					\n						\n									Learn more
URL:https://ncchambers.org/event/bellmore-family-street-festival-2/2022-09-25/
CATEGORIES:Street Festival
END:VEVENT
BEGIN:VEVENT
DTSTART;TZID=America/New_York:20220925T060000
DTEND;TZID=America/New_York:20220925T100000
DTSTAMP:20260422T133704
CREATED:20220809T224840Z
LAST-MODIFIED:20220809T224840Z
UID:10000118-1664085600-1664100000@ncchambers.org
SUMMARY:Farmingdale Farmers Market
DESCRIPTION:Click the button below to learn more about this upcoming event\, application\, and sponsorship form.								\n				\n				\n				\n									\n					\n						\n									Learn more
URL:https://ncchambers.org/event/farmingdale-farmers-market/2022-09-25/
END:VEVENT
BEGIN:VEVENT
DTSTART;TZID=America/New_York:20220925T090000
DTEND;TZID=America/New_York:20220925T150000
DTSTAMP:20260422T133704
CREATED:20220811T200435Z
LAST-MODIFIED:20220811T200435Z
UID:10000031-1664096400-1664118000@ncchambers.org
SUMMARY:Village of Southampton
DESCRIPTION:Click the button below to learn more about this upcoming event\, application\, and sponsorship form.								\n				\n				\n				\n									\n					\n						\n									Learn more
URL:https://ncchambers.org/event/village-of-southampton/2022-09-25/
END:VEVENT
BEGIN:VEVENT
DTSTART;TZID=America/New_York:20220925T100000
DTEND;TZID=America/New_York:20220925T170000
DTSTAMP:20260422T133704
CREATED:20220811T193050Z
LAST-MODIFIED:20220811T193050Z
UID:10000208-1664100000-1664125200@ncchambers.org
SUMMARY:Middle Island
DESCRIPTION:Click the button below to learn more about this upcoming event\, application\, and sponsorship form.								\n				\n				\n				\n									\n					\n						\n									Learn more
URL:https://ncchambers.org/event/middle-island/2022-09-25/
CATEGORIES:Fair
END:VEVENT
BEGIN:VEVENT
DTSTART;TZID=America/New_York:20221001T070000
DTEND;TZID=America/New_York:20221001T120000
DTSTAMP:20260422T133704
CREATED:20220811T182435Z
LAST-MODIFIED:20220811T182435Z
UID:10000100-1664607600-1664625600@ncchambers.org
SUMMARY:Vlllage of Rockville Centre - Chamber of Commerce Farmers Market
DESCRIPTION:Click the button below to learn more about this upcoming event\, application\, and sponsorship form.								\n				\n				\n				\n									\n					\n						\n									Learn more
URL:https://ncchambers.org/event/vlllage-of-rockville-centre-chamber-of-commerce-farmers-market/2022-10-01/
CATEGORIES:Farmers Market
END:VEVENT
BEGIN:VEVENT
DTSTART;TZID=America/New_York:20221001T080000
DTEND;TZID=America/New_York:20221001T123000
DTSTAMP:20260422T133704
CREATED:20220811T193941Z
LAST-MODIFIED:20220811T193941Z
UID:10000218-1664611200-1664627400@ncchambers.org
SUMMARY:Northport – Farmers Market
DESCRIPTION:Click the button below to learn more about this upcoming event\, application\, and sponsorship form.								\n				\n				\n				\n									\n					\n						\n									Learn more
URL:https://ncchambers.org/event/northport-farmers-market/2022-10-01/
CATEGORIES:Farmers Market
END:VEVENT
BEGIN:VEVENT
DTSTART;TZID=America/New_York:20221001T090000
DTEND;TZID=America/New_York:20221001T130000
DTSTAMP:20260422T133704
CREATED:20220811T200654Z
LAST-MODIFIED:20220811T200654Z
UID:10000041-1664614800-1664629200@ncchambers.org
SUMMARY:St. James - Farmers and Artisan Market
DESCRIPTION:Click the button below to learn more about this upcoming event\, application\, and sponsorship form.								\n				\n				\n				\n									\n					\n						\n									Learn more
URL:https://ncchambers.org/event/st-james-farmers-and-artisan-market/2022-10-01/
CATEGORIES:Farmers Market
END:VEVENT
BEGIN:VEVENT
DTSTART;TZID=America/New_York:20221001T100000
DTEND;TZID=America/New_York:20221001T150000
DTSTAMP:20260422T133704
CREATED:20220811T173752Z
LAST-MODIFIED:20220811T173752Z
UID:10000169-1664618400-1664636400@ncchambers.org
SUMMARY:City of Long Beach - Arts in the Plaza
DESCRIPTION:Click the button below to learn more about this upcoming event\, application\, and sponsorship form.								\n				\n				\n				\n									\n					\n						\n									Learn more
URL:https://ncchambers.org/event/city-of-long-beach-arts-in-the-plaza/2022-10-01/
CATEGORIES:Art Festival
END:VEVENT
BEGIN:VEVENT
DTSTART;TZID=America/New_York:20221001T120000
DTEND;TZID=America/New_York:20221001T150000
DTSTAMP:20260422T133704
CREATED:20220811T182845Z
LAST-MODIFIED:20220811T182845Z
UID:10000143-1664625600-1664636400@ncchambers.org
SUMMARY:Village of Westbury Farmer’s Markets
DESCRIPTION:Click the button below to learn more about this upcoming event\, application\, and sponsorship form.								\n				\n				\n				\n									\n					\n						\n									Learn more
URL:https://ncchambers.org/event/village-of-westbury-farmers-markets/2022-10-01/
CATEGORIES:Farmers Market
END:VEVENT
BEGIN:VEVENT
DTSTART;TZID=America/New_York:20221001T120000
DTEND;TZID=America/New_York:20221001T163000
DTSTAMP:20260422T133704
CREATED:20220811T161549Z
LAST-MODIFIED:20220811T161549Z
UID:10000128-1664625600-1664641800@ncchambers.org
SUMMARY:Baldwin - Grand Baldwin Festival
DESCRIPTION:Click the button below to learn more about this upcoming event\, application\, and sponsorship form.								\n				\n				\n				\n									\n					\n						\n									Learn more
URL:https://ncchambers.org/event/baldwin-grand-baldwin-festival/
CATEGORIES:Grand Baldwin Festival
END:VEVENT
BEGIN:VEVENT
DTSTART;TZID=America/New_York:20221002T060000
DTEND;TZID=America/New_York:20221002T100000
DTSTAMP:20260422T133704
CREATED:20220809T224840Z
LAST-MODIFIED:20220809T224840Z
UID:10000119-1664690400-1664704800@ncchambers.org
SUMMARY:Farmingdale Farmers Market
DESCRIPTION:Click the button below to learn more about this upcoming event\, application\, and sponsorship form.								\n				\n				\n				\n									\n					\n						\n									Learn more
URL:https://ncchambers.org/event/farmingdale-farmers-market/2022-10-02/
END:VEVENT
BEGIN:VEVENT
DTSTART;TZID=America/New_York:20221002T090000
DTEND;TZID=America/New_York:20221002T150000
DTSTAMP:20260422T133704
CREATED:20220811T200435Z
LAST-MODIFIED:20220811T200435Z
UID:10000032-1664701200-1664722800@ncchambers.org
SUMMARY:Village of Southampton
DESCRIPTION:Click the button below to learn more about this upcoming event\, application\, and sponsorship form.								\n				\n				\n				\n									\n					\n						\n									Learn more
URL:https://ncchambers.org/event/village-of-southampton/2022-10-02/
END:VEVENT
BEGIN:VEVENT
DTSTART;TZID=America/New_York:20221002T110000
DTEND;TZID=America/New_York:20221002T150000
DTSTAMP:20260422T133704
CREATED:20220811T181542Z
LAST-MODIFIED:20220811T181542Z
UID:10000072-1664708400-1664722800@ncchambers.org
SUMMARY:Oyster Bay Main Street Association - The Oyster Bay Market
DESCRIPTION:Click the button below to learn more about this upcoming event\, application\, and sponsorship form.								\n				\n				\n				\n									\n					\n						\n									Learn more
URL:https://ncchambers.org/event/oyster-bay-main-street-association-the-oyster-bay-market/2022-10-02/
CATEGORIES:Market
END:VEVENT
BEGIN:VEVENT
DTSTART;TZID=America/New_York:20221002T110000
DTEND;TZID=America/New_York:20221002T170000
DTSTAMP:20260422T133704
CREATED:20220811T175803Z
LAST-MODIFIED:20221120T204604Z
UID:10000191-1664708400-1664730000@ncchambers.org
SUMMARY:Village of Mineola - Chamber of Commerce Street Fair
DESCRIPTION:Click the button below to learn more about this upcoming event\, application\, and sponsorship form.								\n				\n				\n				\n									\n					\n						\n									Learn more
URL:https://ncchambers.org/event/village-of-mineola-chamber-of-commerce-street-fair/
CATEGORIES:Chamber Event,Fair
END:VEVENT
BEGIN:VEVENT
DTSTART;TZID=America/New_York:20221008T070000
DTEND;TZID=America/New_York:20221008T120000
DTSTAMP:20260422T133704
CREATED:20220811T182435Z
LAST-MODIFIED:20220811T182435Z
UID:10000101-1665212400-1665230400@ncchambers.org
SUMMARY:Vlllage of Rockville Centre - Chamber of Commerce Farmers Market
DESCRIPTION:Click the button below to learn more about this upcoming event\, application\, and sponsorship form.								\n				\n				\n				\n									\n					\n						\n									Learn more
URL:https://ncchambers.org/event/vlllage-of-rockville-centre-chamber-of-commerce-farmers-market/2022-10-08/
CATEGORIES:Farmers Market
END:VEVENT
BEGIN:VEVENT
DTSTART;TZID=America/New_York:20221008T080000
DTEND;TZID=America/New_York:20221008T123000
DTSTAMP:20260422T133704
CREATED:20220811T193941Z
LAST-MODIFIED:20220811T193941Z
UID:10000219-1665216000-1665232200@ncchambers.org
SUMMARY:Northport – Farmers Market
DESCRIPTION:Click the button below to learn more about this upcoming event\, application\, and sponsorship form.								\n				\n				\n				\n									\n					\n						\n									Learn more
URL:https://ncchambers.org/event/northport-farmers-market/2022-10-08/
CATEGORIES:Farmers Market
END:VEVENT
BEGIN:VEVENT
DTSTART;TZID=America/New_York:20221008T090000
DTEND;TZID=America/New_York:20221008T130000
DTSTAMP:20260422T133704
CREATED:20220811T200654Z
LAST-MODIFIED:20220811T200654Z
UID:10000042-1665219600-1665234000@ncchambers.org
SUMMARY:St. James - Farmers and Artisan Market
DESCRIPTION:Click the button below to learn more about this upcoming event\, application\, and sponsorship form.								\n				\n				\n				\n									\n					\n						\n									Learn more
URL:https://ncchambers.org/event/st-james-farmers-and-artisan-market/2022-10-08/
CATEGORIES:Farmers Market
END:VEVENT
BEGIN:VEVENT
DTSTART;TZID=America/New_York:20221008T100000
DTEND;TZID=America/New_York:20221008T150000
DTSTAMP:20260422T133704
CREATED:20220811T173752Z
LAST-MODIFIED:20220811T173752Z
UID:10000170-1665223200-1665241200@ncchambers.org
SUMMARY:City of Long Beach - Arts in the Plaza
DESCRIPTION:Click the button below to learn more about this upcoming event\, application\, and sponsorship form.								\n				\n				\n				\n									\n					\n						\n									Learn more
URL:https://ncchambers.org/event/city-of-long-beach-arts-in-the-plaza/2022-10-08/
CATEGORIES:Art Festival
END:VEVENT
BEGIN:VEVENT
DTSTART;TZID=America/New_York:20221008T120000
DTEND;TZID=America/New_York:20221008T150000
DTSTAMP:20260422T133704
CREATED:20220811T182845Z
LAST-MODIFIED:20220811T182845Z
UID:10000144-1665230400-1665241200@ncchambers.org
SUMMARY:Village of Westbury Farmer’s Markets
DESCRIPTION:Click the button below to learn more about this upcoming event\, application\, and sponsorship form.								\n				\n				\n				\n									\n					\n						\n									Learn more
URL:https://ncchambers.org/event/village-of-westbury-farmers-markets/2022-10-08/
CATEGORIES:Farmers Market
END:VEVENT
BEGIN:VEVENT
DTSTART;TZID=America/New_York:20221009T060000
DTEND;TZID=America/New_York:20221009T100000
DTSTAMP:20260422T133704
CREATED:20220809T224840Z
LAST-MODIFIED:20220809T224840Z
UID:10000120-1665295200-1665309600@ncchambers.org
SUMMARY:Farmingdale Farmers Market
DESCRIPTION:Click the button below to learn more about this upcoming event\, application\, and sponsorship form.								\n				\n				\n				\n									\n					\n						\n									Learn more
URL:https://ncchambers.org/event/farmingdale-farmers-market/2022-10-09/
END:VEVENT
BEGIN:VEVENT
DTSTART;TZID=America/New_York:20221009T090000
DTEND;TZID=America/New_York:20221009T150000
DTSTAMP:20260422T133704
CREATED:20220811T200435Z
LAST-MODIFIED:20220811T200435Z
UID:10000033-1665306000-1665327600@ncchambers.org
SUMMARY:Village of Southampton
DESCRIPTION:Click the button below to learn more about this upcoming event\, application\, and sponsorship form.								\n				\n				\n				\n									\n					\n						\n									Learn more
URL:https://ncchambers.org/event/village-of-southampton/2022-10-09/
END:VEVENT
END:VCALENDAR