BEGIN:VCALENDAR
VERSION:2.0
PRODID:-//Nassau Council of Chambers of Commerce - ECPv6.15.20//NONSGML v1.0//EN
CALSCALE:GREGORIAN
METHOD:PUBLISH
X-WR-CALNAME:Nassau Council of Chambers of Commerce
X-ORIGINAL-URL:https://ncchambers.org
X-WR-CALDESC:Events for Nassau Council of Chambers of Commerce
REFRESH-INTERVAL;VALUE=DURATION:PT1H
X-Robots-Tag:noindex
X-PUBLISHED-TTL:PT1H
BEGIN:VTIMEZONE
TZID:America/New_York
BEGIN:DAYLIGHT
TZOFFSETFROM:-0500
TZOFFSETTO:-0400
TZNAME:EDT
DTSTART:20230312T070000
END:DAYLIGHT
BEGIN:STANDARD
TZOFFSETFROM:-0400
TZOFFSETTO:-0500
TZNAME:EST
DTSTART:20231105T060000
END:STANDARD
BEGIN:DAYLIGHT
TZOFFSETFROM:-0500
TZOFFSETTO:-0400
TZNAME:EDT
DTSTART:20240310T070000
END:DAYLIGHT
BEGIN:STANDARD
TZOFFSETFROM:-0400
TZOFFSETTO:-0500
TZNAME:EST
DTSTART:20241103T060000
END:STANDARD
BEGIN:DAYLIGHT
TZOFFSETFROM:-0500
TZOFFSETTO:-0400
TZNAME:EDT
DTSTART:20250309T070000
END:DAYLIGHT
BEGIN:STANDARD
TZOFFSETFROM:-0400
TZOFFSETTO:-0500
TZNAME:EST
DTSTART:20251102T060000
END:STANDARD
BEGIN:DAYLIGHT
TZOFFSETFROM:-0500
TZOFFSETTO:-0400
TZNAME:EDT
DTSTART:20260308T070000
END:DAYLIGHT
BEGIN:STANDARD
TZOFFSETFROM:-0400
TZOFFSETTO:-0500
TZNAME:EST
DTSTART:20261101T060000
END:STANDARD
BEGIN:DAYLIGHT
TZOFFSETFROM:-0500
TZOFFSETTO:-0400
TZNAME:EDT
DTSTART:20270314T070000
END:DAYLIGHT
BEGIN:STANDARD
TZOFFSETFROM:-0400
TZOFFSETTO:-0500
TZNAME:EST
DTSTART:20271107T060000
END:STANDARD
END:VTIMEZONE
BEGIN:VEVENT
DTSTART;TZID=America/New_York:20240117T180000
DTEND;TZID=America/New_York:20240117T210000
DTSTAMP:20260420T035347
CREATED:20240108T144847Z
LAST-MODIFIED:20240108T195331Z
UID:10000617-1705514400-1705525200@ncchambers.org
SUMMARY:New Hyde Park Chamber Presidents Gala
DESCRIPTION:
URL:https://ncchambers.org/event/2024-presidents-gala/
LOCATION:The Inn At New Hyde Park\, 214 Jericho Turnpike\, New Hyde Park\, 11040\, United States
CATEGORIES:Chamber installation
ATTACH;FMTTYPE=image/jpeg:https://ncchambers.org/wp-content/uploads/2024/01/NCChamber-Presidents-Gala.jpeg
END:VEVENT
BEGIN:VEVENT
DTSTART;TZID=America/New_York:20240118T103000
DTEND;TZID=America/New_York:20240118T180000
DTSTAMP:20260420T035347
CREATED:20240108T150741Z
LAST-MODIFIED:20240108T150741Z
UID:10000618-1705573800-1705600800@ncchambers.org
SUMMARY:Stand With Sands - public hearing
DESCRIPTION:On Thursday\, January 18th\, join the NCCC and STAND WITH SANDS! \nThe Town of Hempstead is holding two public hearings to discuss the draft scope of the environmental analysis of the Sands New York project proposed for Nassau County.  The hearings will be held at the Long Island Marriott on January 18th at 10:30 am and 6 pm. \nSands has proposed the most robust draft scope for the environmental review which amongst other elements will include air quality\, soil\, noise\, water\, light\, parking\, and traffic analysis including over 100 intersections. \nAll Long Islanders are encouraged to join us to support this transformational project. We must get this project moving – along with all the jobs and revenue it will bring with it.  Your voice is critical at this moment\, and we hope you will join us at the hearings and consider speaking on why you support this project. \nRSVP at tinyurl.com/snyjan18 and reach out to standwithsandssignup@gmail.com if you have any questions. \nClick HERE for a pdf of the flyer above.
URL:https://ncchambers.org/event/stand-with-sands-public-hearing/
LOCATION:Long Island Marriott\, 101 James Doolittle\, Uniondale\, NY\, 11553
END:VEVENT
BEGIN:VEVENT
DTSTART;TZID=America/New_York:20240118T173000
DTEND;TZID=America/New_York:20240118T203000
DTSTAMP:20260420T035347
CREATED:20240108T194824Z
LAST-MODIFIED:20240108T194858Z
UID:10000620-1705599000-1705609800@ncchambers.org
SUMMARY:Massapequa Chamber PIANY Reception
DESCRIPTION:Congratulations to past Massapequa Chamber of Commerce President Gary Salvin on this major achievement! \nPlease RSVP BY January 11 \nCall 800-424-4244
URL:https://ncchambers.org/event/massapequa-chamber-piany-reception/
LOCATION:The Oak Room\, Heritage Cllub at Bethpage\, 99 Wuaker Meeting House Rd.\, Farmingdale\, 11735\, United States
CATEGORIES:Chamber installation
ATTACH;FMTTYPE=image/jpeg:https://ncchambers.org/wp-content/uploads/2018/09/Massapequa-Logo475.jpg
END:VEVENT
BEGIN:VEVENT
DTSTART;TZID=America/New_York:20240118T180000
DTEND;TZID=America/New_York:20240118T220000
DTSTAMP:20260420T035347
CREATED:20240108T195218Z
LAST-MODIFIED:20240108T195218Z
UID:10000621-1705600800-1705615200@ncchambers.org
SUMMARY:Lynbrook Chamber Installation
DESCRIPTION:
URL:https://ncchambers.org/event/lynbrook-chamber-installation/
LOCATION:Coral House\, 70 Milburn Ave.\, Baldwin\, 11510\, United States
CATEGORIES:Chamber installation
ATTACH;FMTTYPE=image/jpeg:https://ncchambers.org/wp-content/uploads/2018/09/LynbrookChamberCommerce475.jpg
END:VEVENT
BEGIN:VEVENT
DTSTART;VALUE=DATE:20240119
DTEND;VALUE=DATE:20240120
DTSTAMP:20260420T035347
CREATED:20240102T173554Z
LAST-MODIFIED:20240102T173854Z
UID:10000615-1705622400-1705708799@ncchambers.org
SUMMARY:Deadline - Nassau County Small Business Technical Assistance Grant
DESCRIPTION:IF YOUR COMPANY IS LOCATED IN NASSAU AND WOULD LIKE TO PARTICIPATE IN ANY OF THE SUBJECTS COVERED BY THIS\, THAT MEANS BE HIRED TO DO SO\, YOU MUST FILL OUT AND SUBMIT THE RFP. \nWhile this information is all on the RFP\, just as a highlight the responses are due by January 19th and should be sent to Admin@ncchambers.org along with any questions you might have. There will be a pre-bid conference on January 8th. \nCLICK HERE FOR THE RFP.
URL:https://ncchambers.org/event/deadline-nassau-county-small-business-technical-assistance-grant/
ATTACH;FMTTYPE=image/jpeg:https://ncchambers.org/wp-content/uploads/2024/01/NCChambers-grant.jpg
END:VEVENT
BEGIN:VEVENT
DTSTART;TZID=America/New_York:20240125T063000
DTEND;TZID=America/New_York:20240125T203000
DTSTAMP:20260420T035347
CREATED:20240108T195707Z
LAST-MODIFIED:20240108T195707Z
UID:10000622-1706164200-1706214600@ncchambers.org
SUMMARY:Merrick Chamber Installation
DESCRIPTION:
URL:https://ncchambers.org/event/merrick-chamber-installation/
LOCATION:Mio Posto Restaurant\, 16 Merrick Ave.\, Merrick\, 11566\, United States
CATEGORIES:Chamber installation
ATTACH;FMTTYPE=image/jpeg:https://ncchambers.org/wp-content/uploads/2018/09/MerrickChamberLogo475-e1537407994967.jpg
ORGANIZER;CN="Merrick Chamber of Commerce":MAILTO:info@merrickchamber.org
END:VEVENT
BEGIN:VEVENT
DTSTART;TZID=America/New_York:20240131T180000
DTEND;TZID=America/New_York:20240131T210000
DTSTAMP:20260420T035347
CREATED:20240108T200056Z
LAST-MODIFIED:20240108T200056Z
UID:10000623-1706724000-1706734800@ncchambers.org
SUMMARY:Glen Cove Chamber Installation
DESCRIPTION:Flyer and Sign-up coming soon.
URL:https://ncchambers.org/event/glen-cove-chamber-installation/
LOCATION:Glen Cove Mansion\, 200 Dosoris Lane\, Glen Cove\, 11542\, United States
CATEGORIES:Chamber installation
ATTACH;FMTTYPE=image/jpeg:https://ncchambers.org/wp-content/uploads/2018/09/Glen-Cove-Logo475-e1537408140444.jpg
ORGANIZER;CN="Glen Cove Chamber of Commerce":MAILTO:Info@glencovechamber.org
END:VEVENT
BEGIN:VEVENT
DTSTART;TZID=America/New_York:20240202T190000
DTEND;TZID=America/New_York:20240202T233000
DTSTAMP:20260420T035347
CREATED:20240108T200551Z
LAST-MODIFIED:20240108T200719Z
UID:10000624-1706900400-1706916600@ncchambers.org
SUMMARY:East Meadow Chamber Installation
DESCRIPTION:
URL:https://ncchambers.org/event/east-meadow-chamber-installation/
LOCATION:Westbury Manor\, 1100 Jericho Turnpike\, Westbury\, 11590\, United States
CATEGORIES:Chamber installation
ATTACH;FMTTYPE=image/jpeg:https://ncchambers.org/wp-content/uploads/2018/09/East-Meadow-Logo475.jpg
ORGANIZER;CN="East Meadow Chamber of Commerce":MAILTO:Info@eastmeadowchamber.org
END:VEVENT
BEGIN:VEVENT
DTSTART;TZID=America/New_York:20240203T183000
DTEND;TZID=America/New_York:20240203T220000
DTSTAMP:20260420T035347
CREATED:20240108T200959Z
LAST-MODIFIED:20240108T201016Z
UID:10000625-1706985000-1706997600@ncchambers.org
SUMMARY:Bellmore Chamber Installation Dinner
DESCRIPTION:
URL:https://ncchambers.org/event/bellmore-chamber-installation-dinner/
LOCATION:Crest Hollow Country Club
CATEGORIES:Chamber installation
ATTACH;FMTTYPE=image/jpeg:https://ncchambers.org/wp-content/uploads/2018/09/Bellmore-Chamber-Seal-Logo200.jpg
END:VEVENT
BEGIN:VEVENT
DTSTART;TZID=America/New_York:20240205T173000
DTEND;TZID=America/New_York:20240205T193000
DTSTAMP:20260420T035347
CREATED:20240108T201350Z
LAST-MODIFIED:20240108T201503Z
UID:10000626-1707154200-1707161400@ncchambers.org
SUMMARY:Oyster Bay / EN Chamber Installation
DESCRIPTION:
URL:https://ncchambers.org/event/oyster-bay-en-chamber-installation/
LOCATION:The Wine Line\, 30 Audrey Ave\, Oyster Bay\, 11771\, United States
CATEGORIES:Chamber installation
ATTACH;FMTTYPE=image/jpeg:https://ncchambers.org/wp-content/uploads/2024/01/Oyster-Bay-Chamber-Logo318px.jpg
END:VEVENT
BEGIN:VEVENT
DTSTART;TZID=America/New_York:20240221T180000
DTEND;TZID=America/New_York:20240221T200000
DTSTAMP:20260420T035347
CREATED:20240108T201706Z
LAST-MODIFIED:20240108T201706Z
UID:10000627-1708538400-1708545600@ncchambers.org
SUMMARY:West Hempstead Chamber Installation
DESCRIPTION:
URL:https://ncchambers.org/event/west-hempstead-chamber-installation/
CATEGORIES:Chamber installation
ATTACH;FMTTYPE=image/jpeg:https://ncchambers.org/wp-content/uploads/2018/09/WestHemstead474.jpg
END:VEVENT
BEGIN:VEVENT
DTSTART;TZID=America/New_York:20240425T080000
DTEND;TZID=America/New_York:20240425T093000
DTSTAMP:20260420T035347
CREATED:20240415T161417Z
LAST-MODIFIED:20240415T161417Z
UID:10000630-1714032000-1714037400@ncchambers.org
SUMMARY:President's Round Table
DESCRIPTION:President’s Roundtable (Workgroup)\nPrior to the infamous pandemic this was an annual event\, and now it is back!!! We need folks who are directly involved with running their Chambers\, ideally Presidents\, but that’s not mandatory. We all go thru pretty much everything that’s been going on with our Chambers\, what’s been working and not\, then come up with plans for us all to move forward. The NCCC then sends out a comprehensive outline with resources to everyone.\nEVERY CHAMBER NEEDS TO BE THERE\nLet us know who will be coming by sending us an email at Admin@NCChambers.org\, and we will also be calling every chamber president. \n \nAbout NFFCU\nWhen I was President of the East Meadow Chamber we were part of at least 3 ribbon cuttings/grand openings\, including one right in NUMC! Their headquarters have always been in EM (even though their previous had a Westbury zip)\, then they purchased the shopping center where Retro Fitness used to be (and where they already had a branch) and converted the facility into their new corporate headquarters. Anyways\, they are really nice people\, and their President John DeCelle is an awesome guy. See you all there.
URL:https://ncchambers.org/event/presidents-round-table/
LOCATION:Nassau Financial Federal Credit Union\, 2575 Hempstead Tpke\, East Meadow\, 11554\, United States
CATEGORIES:General Meetings
ATTACH;FMTTYPE=image/jpeg:https://ncchambers.org/wp-content/uploads/2024/04/NCCC-Presidnets-Roundtable-Meeting.jpg
END:VEVENT
BEGIN:VEVENT
DTSTART;TZID=America/New_York:20240929T100000
DTEND;TZID=America/New_York:20240929T170000
DTSTAMP:20260420T035347
CREATED:20240830T180837Z
LAST-MODIFIED:20240830T181038Z
UID:10000632-1727604000-1727629200@ncchambers.org
SUMMARY:2024 Syosset Street Fair
DESCRIPTION:Sunday\, September 29th\, 10 am to 5 pm \nRaindate: 11/3
URL:https://ncchambers.org/event/2024-syosset-street-fair/
ATTACH;FMTTYPE=image/png:https://ncchambers.org/wp-content/uploads/2024/08/Syosset-chamber.png
END:VEVENT
BEGIN:VEVENT
DTSTART;TZID=America/New_York:20241025T070000
DTEND;TZID=America/New_York:20241025T100000
DTSTAMP:20260420T035347
CREATED:20240712T141152Z
LAST-MODIFIED:20241008T194004Z
UID:10000631-1729839600-1729850400@ncchambers.org
SUMMARY:2024 Businessperson of the Year & Legislative Breakfast
DESCRIPTION:Click the button below to learn more about this upcoming event\, application\, and sponsorship form.\n\nLearn more
URL:https://ncchambers.org/event/2024-businessperson-of-the-year-legislative-breakfast/
LOCATION:Crest Hollow Country Club
CATEGORIES:Annual Small Business Person of the Year
END:VEVENT
BEGIN:VEVENT
DTSTART;TZID=America/New_York:20250327T080000
DTEND;TZID=America/New_York:20250327T100000
DTSTAMP:20260420T035347
CREATED:20250307T142942Z
LAST-MODIFIED:20250307T142942Z
UID:10000633-1743062400-1743069600@ncchambers.org
SUMMARY:General Meeting
DESCRIPTION:
URL:https://ncchambers.org/event/general-meeting-13/
LOCATION:Nassau Council of Chambers of Commerce\, Nassau Community College South Hall 2nd Floor 2 Davis Ave.\, Garden City\, NY\, 11530\, United States
END:VEVENT
BEGIN:VEVENT
DTSTART;TZID=America/New_York:20250424T080000
DTEND;TZID=America/New_York:20250424T100000
DTSTAMP:20260420T035347
CREATED:20250307T143038Z
LAST-MODIFIED:20250307T143038Z
UID:10000634-1745481600-1745488800@ncchambers.org
SUMMARY:General Meeting
DESCRIPTION:
URL:https://ncchambers.org/event/general-meeting-14/
LOCATION:Nassau Council of Chambers of Commerce\, Nassau Community College South Hall 2nd Floor 2 Davis Ave.\, Garden City\, NY\, 11530\, United States
END:VEVENT
BEGIN:VEVENT
DTSTART;TZID=America/New_York:20250529T080000
DTEND;TZID=America/New_York:20250529T100000
DTSTAMP:20260420T035347
CREATED:20250307T143221Z
LAST-MODIFIED:20250307T143221Z
UID:10000636-1748505600-1748512800@ncchambers.org
SUMMARY:General Meeting
DESCRIPTION:
URL:https://ncchambers.org/event/general-meeting-15/
LOCATION:Nassau Council of Chambers of Commerce\, Nassau Community College South Hall 2nd Floor 2 Davis Ave.\, Garden City\, NY\, 11530\, United States
END:VEVENT
BEGIN:VEVENT
DTSTART;TZID=America/New_York:20250626T080000
DTEND;TZID=America/New_York:20250626T100000
DTSTAMP:20260420T035347
CREATED:20250307T143330Z
LAST-MODIFIED:20250307T143330Z
UID:10000637-1750924800-1750932000@ncchambers.org
SUMMARY:General Meeting
DESCRIPTION:
URL:https://ncchambers.org/event/general-meeting-16/
LOCATION:Nassau Council of Chambers of Commerce\, Nassau Community College South Hall 2nd Floor 2 Davis Ave.\, Garden City\, NY\, 11530\, United States
END:VEVENT
BEGIN:VEVENT
DTSTART;TZID=America/New_York:20250731T080000
DTEND;TZID=America/New_York:20250731T100000
DTSTAMP:20260420T035347
CREATED:20250307T143402Z
LAST-MODIFIED:20250307T143402Z
UID:10000638-1753948800-1753956000@ncchambers.org
SUMMARY:General Meeting
DESCRIPTION:
URL:https://ncchambers.org/event/general-meeting-17/
LOCATION:Nassau Council of Chambers of Commerce\, Nassau Community College South Hall 2nd Floor 2 Davis Ave.\, Garden City\, NY\, 11530\, United States
END:VEVENT
BEGIN:VEVENT
DTSTART;TZID=America/New_York:20250828T080000
DTEND;TZID=America/New_York:20250828T100000
DTSTAMP:20260420T035347
CREATED:20250307T143434Z
LAST-MODIFIED:20250307T143434Z
UID:10000639-1756368000-1756375200@ncchambers.org
SUMMARY:General Meeting
DESCRIPTION:
URL:https://ncchambers.org/event/general-meeting-18/
LOCATION:Nassau Council of Chambers of Commerce\, Nassau Community College South Hall 2nd Floor 2 Davis Ave.\, Garden City\, NY\, 11530\, United States
END:VEVENT
BEGIN:VEVENT
DTSTART;TZID=America/New_York:20250925T080000
DTEND;TZID=America/New_York:20250925T100000
DTSTAMP:20260420T035347
CREATED:20250307T143540Z
LAST-MODIFIED:20250922T204125Z
UID:10000640-1758787200-1758794400@ncchambers.org
SUMMARY:General Meeting
DESCRIPTION:
URL:https://ncchambers.org/event/general-meeting-19/
LOCATION:Commerce Plaza at Yes Community Counseling Center\, 152 Center Lane\, Levittown\, NY\, 11756\, United States
END:VEVENT
BEGIN:VEVENT
DTSTART;TZID=America/New_York:20251031T080000
DTEND;TZID=America/New_York:20251031T100000
DTSTAMP:20260420T035347
CREATED:20250307T144204Z
LAST-MODIFIED:20250307T144204Z
UID:10000642-1761897600-1761904800@ncchambers.org
SUMMARY:Small Business Person of the Year & Legislative Breakfast
DESCRIPTION:
URL:https://ncchambers.org/event/small-business-person-of-the-year-legislative-breakfast/
LOCATION:Crest Hollow Country Club
END:VEVENT
BEGIN:VEVENT
DTSTART;TZID=America/New_York:20251120T080000
DTEND;TZID=America/New_York:20251120T100000
DTSTAMP:20260420T035347
CREATED:20250307T143704Z
LAST-MODIFIED:20250307T143704Z
UID:10000641-1763625600-1763632800@ncchambers.org
SUMMARY:General Meeting
DESCRIPTION:
URL:https://ncchambers.org/event/general-meeting-20/
LOCATION:Nassau Council of Chambers of Commerce\, Nassau Community College South Hall 2nd Floor 2 Davis Ave.\, Garden City\, NY\, 11530\, United States
END:VEVENT
BEGIN:VEVENT
DTSTART;TZID=America/New_York:20260129T080000
DTEND;TZID=America/New_York:20260129T100000
DTSTAMP:20260420T035347
CREATED:20251229T165023Z
LAST-MODIFIED:20251229T165023Z
UID:10000643-1769673600-1769680800@ncchambers.org
SUMMARY:General Meeting
DESCRIPTION:
URL:https://ncchambers.org/event/general-meeting-21/
END:VEVENT
BEGIN:VEVENT
DTSTART;TZID=America/New_York:20260226T080000
DTEND;TZID=America/New_York:20260226T100000
DTSTAMP:20260420T035347
CREATED:20251229T165124Z
LAST-MODIFIED:20251229T165124Z
UID:10000644-1772092800-1772100000@ncchambers.org
SUMMARY:General Meeting
DESCRIPTION:
URL:https://ncchambers.org/event/general-meeting-22/
END:VEVENT
BEGIN:VEVENT
DTSTART;TZID=America/New_York:20260326T080000
DTEND;TZID=America/New_York:20260326T100000
DTSTAMP:20260420T035347
CREATED:20251229T165225Z
LAST-MODIFIED:20251229T165225Z
UID:10000645-1774512000-1774519200@ncchambers.org
SUMMARY:General Meeting
DESCRIPTION:
URL:https://ncchambers.org/event/general-meeting-23/
END:VEVENT
BEGIN:VEVENT
DTSTART;TZID=America/New_York:20260430T080000
DTEND;TZID=America/New_York:20260430T100000
DTSTAMP:20260420T035347
CREATED:20251229T165314Z
LAST-MODIFIED:20251229T165314Z
UID:10000646-1777536000-1777543200@ncchambers.org
SUMMARY:General Meeting
DESCRIPTION:
URL:https://ncchambers.org/event/general-meeting-24/
END:VEVENT
BEGIN:VEVENT
DTSTART;TZID=America/New_York:20260528T080000
DTEND;TZID=America/New_York:20260528T100000
DTSTAMP:20260420T035347
CREATED:20251230T150111Z
LAST-MODIFIED:20251230T150111Z
UID:10000656-1779955200-1779962400@ncchambers.org
SUMMARY:General Meeting
DESCRIPTION:
URL:https://ncchambers.org/event/general-meeting-25/
END:VEVENT
BEGIN:VEVENT
DTSTART;TZID=America/New_York:20260625T080000
DTEND;TZID=America/New_York:20260625T100000
DTSTAMP:20260420T035347
CREATED:20251230T145913Z
LAST-MODIFIED:20251230T145913Z
UID:10000655-1782374400-1782381600@ncchambers.org
SUMMARY:General Meeting
DESCRIPTION:
URL:https://ncchambers.org/event/general-meeting-26/
END:VEVENT
BEGIN:VEVENT
DTSTART;TZID=America/New_York:20260827T080000
DTEND;TZID=America/New_York:20260827T100000
DTSTAMP:20260420T035347
CREATED:20251229T165746Z
LAST-MODIFIED:20251229T165746Z
UID:10000650-1787817600-1787824800@ncchambers.org
SUMMARY:General Meeting
DESCRIPTION:
URL:https://ncchambers.org/event/general-meeting-28/
END:VEVENT
END:VCALENDAR