BEGIN:VCALENDAR
VERSION:2.0
PRODID:-//Nassau Council of Chambers of Commerce - ECPv6.15.20//NONSGML v1.0//EN
CALSCALE:GREGORIAN
METHOD:PUBLISH
X-WR-CALNAME:Nassau Council of Chambers of Commerce
X-ORIGINAL-URL:https://ncchambers.org
X-WR-CALDESC:Events for Nassau Council of Chambers of Commerce
REFRESH-INTERVAL;VALUE=DURATION:PT1H
X-Robots-Tag:noindex
X-PUBLISHED-TTL:PT1H
BEGIN:VTIMEZONE
TZID:America/New_York
BEGIN:DAYLIGHT
TZOFFSETFROM:-0500
TZOFFSETTO:-0400
TZNAME:EDT
DTSTART:20210314T070000
END:DAYLIGHT
BEGIN:STANDARD
TZOFFSETFROM:-0400
TZOFFSETTO:-0500
TZNAME:EST
DTSTART:20211107T060000
END:STANDARD
BEGIN:DAYLIGHT
TZOFFSETFROM:-0500
TZOFFSETTO:-0400
TZNAME:EDT
DTSTART:20220313T070000
END:DAYLIGHT
BEGIN:STANDARD
TZOFFSETFROM:-0400
TZOFFSETTO:-0500
TZNAME:EST
DTSTART:20221106T060000
END:STANDARD
BEGIN:DAYLIGHT
TZOFFSETFROM:-0500
TZOFFSETTO:-0400
TZNAME:EDT
DTSTART:20230312T070000
END:DAYLIGHT
BEGIN:STANDARD
TZOFFSETFROM:-0400
TZOFFSETTO:-0500
TZNAME:EST
DTSTART:20231105T060000
END:STANDARD
END:VTIMEZONE
BEGIN:VEVENT
DTSTART;TZID=America/New_York:20220910T120000
DTEND;TZID=America/New_York:20220910T150000
DTSTAMP:20260420T214257
CREATED:20220811T182845Z
LAST-MODIFIED:20220811T182845Z
UID:10000140-1662811200-1662822000@ncchambers.org
SUMMARY:Village of Westbury Farmer’s Markets
DESCRIPTION:Saturdays the Piazza: 12:00 – 3:00 PM\, July 16 – October 29. https://www.villageofwestbury.org/index.asp?SEC=52367099-459F-46A6-AF51-5BCFF3D8C13B
URL:https://ncchambers.org/event/village-of-westbury-farmers-markets/2022-09-10/
CATEGORIES:Farmers Market
END:VEVENT
BEGIN:VEVENT
DTSTART;TZID=America/New_York:20220910T100000
DTEND;TZID=America/New_York:20220910T170000
DTSTAMP:20260420T214257
CREATED:20220811T185741Z
LAST-MODIFIED:20220811T185741Z
UID:10000013-1662804000-1662829200@ncchambers.org
SUMMARY:East Northport - Chamber of Commerce 2022 Festival
DESCRIPTION:September 9th\, 10th\, & 11th 2022. John J. Walsh Memorial Park and on Larkfield Road from Pulaski Road. Fine Art\, Crafts\, Gifts & Specialty/Gourmet Foods. https://www.eastnorthport.com/2022-festival
URL:https://ncchambers.org/event/east-northport-chamber-of-commerce-2022-festival/2022-09-10/
CATEGORIES:Festival
END:VEVENT
BEGIN:VEVENT
DTSTART;TZID=America/New_York:20220910T100000
DTEND;TZID=America/New_York:20220910T150000
DTSTAMP:20260420T214257
CREATED:20220811T173752Z
LAST-MODIFIED:20220811T173752Z
UID:10000166-1662804000-1662822000@ncchambers.org
SUMMARY:City of Long Beach - Arts in the Plaza
DESCRIPTION:Arts in the Plaza in the City of Long Beach\, features handcrafted art by local artists including custom jewelry\, unique handmade gifts\, photography and fine art. The weekly art festival will be in Kennedy Plaza every Saturday from 10:00 AM to 3:00 PM through October 29th. https://www.longbeachny.gov/index.asp?SEC=3B2FBA1A-DF24-4F0C-9964-B8F658D4F579&DE=CE22F702-7C9A-4887-AAF9-EF2FF1150D1E
URL:https://ncchambers.org/event/city-of-long-beach-arts-in-the-plaza/2022-09-10/
CATEGORIES:Art Festival
END:VEVENT
BEGIN:VEVENT
DTSTART;TZID=America/New_York:20220910T090000
DTEND;TZID=America/New_York:20220910T130000
DTSTAMP:20260420T214257
CREATED:20220811T200654Z
LAST-MODIFIED:20220811T200654Z
UID:10000038-1662800400-1662814800@ncchambers.org
SUMMARY:St. James - Farmers and Artisan Market
DESCRIPTION:Where: 230 2nd Ave\, St James\, 9 AM to 1 PM\, Saturday mornings through November. Hosted by Community Association of St. James https://www.facebook.com/CAGStJ
URL:https://ncchambers.org/event/st-james-farmers-and-artisan-market/2022-09-10/
CATEGORIES:Farmers Market
END:VEVENT
BEGIN:VEVENT
DTSTART;TZID=America/New_York:20220910T080000
DTEND;TZID=America/New_York:20220910T123000
DTSTAMP:20260420T214257
CREATED:20220811T193941Z
LAST-MODIFIED:20220811T193941Z
UID:10000215-1662796800-1662813000@ncchambers.org
SUMMARY:Northport – Farmers Market
DESCRIPTION:Every Saturday\, June 4th thru November 19th 8 AM to 12:30 PM (Rain or Shine) Cow Harbor Park\, 54 Woodbine Ave\, Northport. https://www.northportny.com/event-details/northport-farmers-market-2022-07-02-08-00
URL:https://ncchambers.org/event/northport-farmers-market/2022-09-10/
CATEGORIES:Farmers Market
END:VEVENT
BEGIN:VEVENT
DTSTART;TZID=America/New_York:20220910T070000
DTEND;TZID=America/New_York:20220910T120000
DTSTAMP:20260420T214257
CREATED:20220811T182435Z
LAST-MODIFIED:20220811T182435Z
UID:10000097-1662793200-1662811200@ncchambers.org
SUMMARY:Vlllage of Rockville Centre - Chamber of Commerce Farmers Market
DESCRIPTION:Every Sunday from 7 AM to noon\, through December 18\, 2022\, at Municipal Parking Field 12\, along the north side of Sunrise Highway\, between Long Beach Road and North Forest Avenue. https://www.facebook.com/RVCChamberofCommerce
URL:https://ncchambers.org/event/vlllage-of-rockville-centre-chamber-of-commerce-farmers-market/2022-09-10/
CATEGORIES:Farmers Market
END:VEVENT
BEGIN:VEVENT
DTSTART;TZID=America/New_York:20220909T190000
DTEND;TZID=America/New_York:20220909T220000
DTSTAMP:20260420T214257
CREATED:20220811T192824Z
LAST-MODIFIED:20220811T192824Z
UID:10000206-1662750000-1662760800@ncchambers.org
SUMMARY:Medford - Chamber of Commerce Summer Concert Series
DESCRIPTION:Medford Memorial Park at 7 PM\, and are free. July 20th\, August 3rd\, August 17th\, September 9th. https://www.facebook.com/medfordchamberofcommerce
URL:https://ncchambers.org/event/medford-chamber-of-commerce-summer-concert-series/2022-09-09/
CATEGORIES:Concert
END:VEVENT
BEGIN:VEVENT
DTSTART;TZID=America/New_York:20220909T180000
DTEND;TZID=America/New_York:20220909T220000
DTSTAMP:20260420T214257
CREATED:20220811T171336Z
LAST-MODIFIED:20220811T171336Z
UID:10000155-1662746400-1662760800@ncchambers.org
SUMMARY:Village of Garden City Friday Night Promenades
DESCRIPTION:The Village of Garden City and The Garden City Chamber of Commerce\, will host Friday Night Promenades thorough the summer season. Join us on theme Fridays for fun giveaways\, fabulous food\, music\, and activities for the entire family. 6 to 10 PM every Friday night\, Seventh Street. https://www.gardencitychamber.org/friday-night-promenades/
URL:https://ncchambers.org/event/village-of-garden-city-friday-night-promenades/2022-09-09/
CATEGORIES:Music
END:VEVENT
BEGIN:VEVENT
DTSTART;TZID=America/New_York:20220909T100000
DTEND;TZID=America/New_York:20220909T170000
DTSTAMP:20260420T214257
CREATED:20220811T185741Z
LAST-MODIFIED:20220811T185741Z
UID:10000012-1662717600-1662742800@ncchambers.org
SUMMARY:East Northport - Chamber of Commerce 2022 Festival
DESCRIPTION:September 9th\, 10th\, & 11th 2022. John J. Walsh Memorial Park and on Larkfield Road from Pulaski Road. Fine Art\, Crafts\, Gifts & Specialty/Gourmet Foods. https://www.eastnorthport.com/2022-festival
URL:https://ncchambers.org/event/east-northport-chamber-of-commerce-2022-festival/2022-09-09/
CATEGORIES:Festival
END:VEVENT
BEGIN:VEVENT
DTSTART;TZID=America/New_York:20220906T173000
DTEND;TZID=America/New_York:20220906T210000
DTSTAMP:20260420T214257
CREATED:20220811T180513Z
LAST-MODIFIED:20220811T180513Z
UID:10000198-1662485400-1662498000@ncchambers.org
SUMMARY:Oyster Bay - Cruise Night Car Show & Family Fun Night
DESCRIPTION:Oyster Bay – East Norwich Chamber of Commerce presents Oyster Bay Cruise Night Car Show & Family Fun Night – Tuesday evenings. Event runs through Tuesday September 6th\, 2022.  Start time is 5:45 PM until dark. http://visitoysterbay.chambermaster.com/events/details/oyster-bay-cruise-night-car-show-family-fun-night-07-05-2022-1802?calendarMonth=2022-07-01
URL:https://ncchambers.org/event/oyster-bay-cruise-night-car-show-family-fun-night/2022-09-06/
CATEGORIES:Car Show & Festival
END:VEVENT
BEGIN:VEVENT
DTSTART;TZID=America/New_York:20220904T110000
DTEND;TZID=America/New_York:20220904T180000
DTSTAMP:20260420T214257
CREATED:20220811T192154Z
LAST-MODIFIED:20220811T192154Z
UID:10000203-1662289200-1662314400@ncchambers.org
SUMMARY:Lake Ronkonkoma - Labor Day Weekend Street Fair
DESCRIPTION:End the season with a lively festival featuring over 200 vendors\, merchandise\, children’s rides\, music\, and community spirit. Hawkins Ave.\, Ronkonkoma. 11 AM to 6 PM. September 4th. https://ronkonkomachamber.com/events/
URL:https://ncchambers.org/event/lake-ronkonkoma-labor-day-weekend-street-fair/
CATEGORIES:Fair
END:VEVENT
BEGIN:VEVENT
DTSTART;TZID=America/New_York:20220904T110000
DTEND;TZID=America/New_York:20220904T150000
DTSTAMP:20260420T214257
CREATED:20220811T181542Z
LAST-MODIFIED:20220811T181542Z
UID:10000070-1662289200-1662303600@ncchambers.org
SUMMARY:Oyster Bay Main Street Association - The Oyster Bay Market
DESCRIPTION:Sundays\, 11 AM to 3 PM\, in front of Town Hall\, 74 Audrey Avenue\, Oyster Bay. Runs through November 13th. https://www.oysterbaymainstreet.org/oyster-bay-market.html
URL:https://ncchambers.org/event/oyster-bay-main-street-association-the-oyster-bay-market/2022-09-04/
CATEGORIES:Market
END:VEVENT
BEGIN:VEVENT
DTSTART;TZID=America/New_York:20220904T090000
DTEND;TZID=America/New_York:20220904T150000
DTSTAMP:20260420T214257
CREATED:20220811T200435Z
LAST-MODIFIED:20220811T200435Z
UID:10000028-1662282000-1662303600@ncchambers.org
SUMMARY:Village of Southampton
DESCRIPTION:Farmers & Artisans Market\, Sundays through October 9th \nhttps://southamptonchamber.com/
URL:https://ncchambers.org/event/village-of-southampton/2022-09-04/
END:VEVENT
BEGIN:VEVENT
DTSTART;TZID=America/New_York:20220904T060000
DTEND;TZID=America/New_York:20220904T100000
DTSTAMP:20260420T214257
CREATED:20220809T224840Z
LAST-MODIFIED:20220809T224840Z
UID:10000115-1662271200-1662285600@ncchambers.org
SUMMARY:Farmingdale Farmers Market
DESCRIPTION:On The Village Green\nSundays thru 11/20/22 – weather permitting\, Farmer’s Market On The Village Green. 10:00 AM – 2:00 PM. http://www.farmingdalenychamber.org/events/details/farmers-market-on-the-village-green-farmingdale-weekly-on-sundays-07-03-2022-4838
URL:https://ncchambers.org/event/farmingdale-farmers-market/2022-09-04/
END:VEVENT
BEGIN:VEVENT
DTSTART;TZID=America/New_York:20220903T120000
DTEND;TZID=America/New_York:20220903T150000
DTSTAMP:20260420T214257
CREATED:20220811T182845Z
LAST-MODIFIED:20220811T182845Z
UID:10000139-1662206400-1662217200@ncchambers.org
SUMMARY:Village of Westbury Farmer’s Markets
DESCRIPTION:Saturdays the Piazza: 12:00 – 3:00 PM\, July 16 – October 29. https://www.villageofwestbury.org/index.asp?SEC=52367099-459F-46A6-AF51-5BCFF3D8C13B
URL:https://ncchambers.org/event/village-of-westbury-farmers-markets/2022-09-03/
CATEGORIES:Farmers Market
END:VEVENT
BEGIN:VEVENT
DTSTART;TZID=America/New_York:20220903T100000
DTEND;TZID=America/New_York:20220903T150000
DTSTAMP:20260420T214257
CREATED:20220811T173752Z
LAST-MODIFIED:20220811T173752Z
UID:10000165-1662199200-1662217200@ncchambers.org
SUMMARY:City of Long Beach - Arts in the Plaza
DESCRIPTION:Arts in the Plaza in the City of Long Beach\, features handcrafted art by local artists including custom jewelry\, unique handmade gifts\, photography and fine art. The weekly art festival will be in Kennedy Plaza every Saturday from 10:00 AM to 3:00 PM through October 29th. https://www.longbeachny.gov/index.asp?SEC=3B2FBA1A-DF24-4F0C-9964-B8F658D4F579&DE=CE22F702-7C9A-4887-AAF9-EF2FF1150D1E
URL:https://ncchambers.org/event/city-of-long-beach-arts-in-the-plaza/2022-09-03/
CATEGORIES:Art Festival
END:VEVENT
BEGIN:VEVENT
DTSTART;TZID=America/New_York:20220903T090000
DTEND;TZID=America/New_York:20220903T130000
DTSTAMP:20260420T214257
CREATED:20220811T200654Z
LAST-MODIFIED:20220811T200654Z
UID:10000037-1662195600-1662210000@ncchambers.org
SUMMARY:St. James - Farmers and Artisan Market
DESCRIPTION:Where: 230 2nd Ave\, St James\, 9 AM to 1 PM\, Saturday mornings through November. Hosted by Community Association of St. James https://www.facebook.com/CAGStJ
URL:https://ncchambers.org/event/st-james-farmers-and-artisan-market/2022-09-03/
CATEGORIES:Farmers Market
END:VEVENT
BEGIN:VEVENT
DTSTART;TZID=America/New_York:20220903T080000
DTEND;TZID=America/New_York:20220903T123000
DTSTAMP:20260420T214257
CREATED:20220811T193941Z
LAST-MODIFIED:20220811T193941Z
UID:10000214-1662192000-1662208200@ncchambers.org
SUMMARY:Northport – Farmers Market
DESCRIPTION:Every Saturday\, June 4th thru November 19th 8 AM to 12:30 PM (Rain or Shine) Cow Harbor Park\, 54 Woodbine Ave\, Northport. https://www.northportny.com/event-details/northport-farmers-market-2022-07-02-08-00
URL:https://ncchambers.org/event/northport-farmers-market/2022-09-03/
CATEGORIES:Farmers Market
END:VEVENT
BEGIN:VEVENT
DTSTART;TZID=America/New_York:20220903T070000
DTEND;TZID=America/New_York:20220903T120000
DTSTAMP:20260420T214257
CREATED:20220811T182435Z
LAST-MODIFIED:20220811T182435Z
UID:10000096-1662188400-1662206400@ncchambers.org
SUMMARY:Vlllage of Rockville Centre - Chamber of Commerce Farmers Market
DESCRIPTION:Every Sunday from 7 AM to noon\, through December 18\, 2022\, at Municipal Parking Field 12\, along the north side of Sunrise Highway\, between Long Beach Road and North Forest Avenue. https://www.facebook.com/RVCChamberofCommerce
URL:https://ncchambers.org/event/vlllage-of-rockville-centre-chamber-of-commerce-farmers-market/2022-09-03/
CATEGORIES:Farmers Market
END:VEVENT
BEGIN:VEVENT
DTSTART;TZID=America/New_York:20220902T193000
DTEND;TZID=America/New_York:20220902T210000
DTSTAMP:20260420T214257
CREATED:20220811T174456Z
LAST-MODIFIED:20220811T174456Z
UID:10000177-1662147000-1662152400@ncchambers.org
SUMMARY:Village of Malverne
DESCRIPTION:Summer Concert Series\, July 17th-Sept 2nd \nhttps://www.malvernevillage.org/
URL:https://ncchambers.org/event/village-of-malverne/2022-09-02/
END:VEVENT
BEGIN:VEVENT
DTSTART;TZID=America/New_York:20220902T180000
DTEND;TZID=America/New_York:20220902T220000
DTSTAMP:20260420T214258
CREATED:20220811T171336Z
LAST-MODIFIED:20220811T171336Z
UID:10000154-1662141600-1662156000@ncchambers.org
SUMMARY:Village of Garden City Friday Night Promenades
DESCRIPTION:The Village of Garden City and The Garden City Chamber of Commerce\, will host Friday Night Promenades thorough the summer season. Join us on theme Fridays for fun giveaways\, fabulous food\, music\, and activities for the entire family. 6 to 10 PM every Friday night\, Seventh Street. https://www.gardencitychamber.org/friday-night-promenades/
URL:https://ncchambers.org/event/village-of-garden-city-friday-night-promenades/2022-09-02/
CATEGORIES:Music
END:VEVENT
BEGIN:VEVENT
DTSTART;TZID=America/New_York:20220902T100000
DTEND;TZID=America/New_York:20220902T170000
DTSTAMP:20260420T214258
CREATED:20220811T201806Z
LAST-MODIFIED:20220811T201806Z
UID:10000229-1662112800-1662138000@ncchambers.org
SUMMARY:Shinnecock Tribal Nation - Powwow
DESCRIPTION:Shinnecock Powwow Grounds\, Westgate Road\, off Montauk Highway on the Shinnecock Reservation\, Southampton\, 631-283-6143. Tribal dances\, crafts\, storytelling\, native foods\, demonstrations\, dance and drum competitions\, no pets. Fee $15\, $10 children under 5 Date: 3 PM September 2nd\, 10 AM September 3 PM to 5 PM. https://shinnecockindianpowwow.com/
URL:https://ncchambers.org/event/shinnecock-tribal-nation-powwow/
CATEGORIES:Art Festival
END:VEVENT
BEGIN:VEVENT
DTSTART;TZID=America/New_York:20220901T190000
DTEND;TZID=America/New_York:20220901T210000
DTSTAMP:20260420T214258
CREATED:20220811T183105Z
LAST-MODIFIED:20220811T183105Z
UID:10000004-1662058800-1662066000@ncchambers.org
SUMMARY:Village of Westbury - Westbury Arts – Summer Concert Series
DESCRIPTION:Thursdays\, 7-9 PM\, The Piazza Ernesto Strada\, corner of Post & Maple Avenues. June 30th through September 1st.
URL:https://ncchambers.org/event/village-of-westbury-westbury-arts-summer-concert-series/2022-09-01/
CATEGORIES:Concert
END:VEVENT
BEGIN:VEVENT
DTSTART;TZID=America/New_York:20220830T173000
DTEND;TZID=America/New_York:20220830T210000
DTSTAMP:20260420T214258
CREATED:20220811T180513Z
LAST-MODIFIED:20220811T180513Z
UID:10000197-1661880600-1661893200@ncchambers.org
SUMMARY:Oyster Bay - Cruise Night Car Show & Family Fun Night
DESCRIPTION:Oyster Bay – East Norwich Chamber of Commerce presents Oyster Bay Cruise Night Car Show & Family Fun Night – Tuesday evenings. Event runs through Tuesday September 6th\, 2022.  Start time is 5:45 PM until dark. http://visitoysterbay.chambermaster.com/events/details/oyster-bay-cruise-night-car-show-family-fun-night-07-05-2022-1802?calendarMonth=2022-07-01
URL:https://ncchambers.org/event/oyster-bay-cruise-night-car-show-family-fun-night/2022-08-30/
CATEGORIES:Car Show & Festival
END:VEVENT
BEGIN:VEVENT
DTSTART;TZID=America/New_York:20220830T150000
DTEND;TZID=America/New_York:20220830T180000
DTSTAMP:20260420T214258
CREATED:20220809T215332Z
LAST-MODIFIED:20220809T215332Z
UID:10000092-1661871600-1661882400@ncchambers.org
SUMMARY:Cedarhurst - Summer Concert Series
DESCRIPTION:Pre-Shows begin at 7:00 PM. \nConcerts begin at 8:00 PM. \nRain dates: Thursdays. \n https://cedarhurst.gov/2022-summer-concert-lineup/
URL:https://ncchambers.org/event/cedarhurst-summer-concert-series/2022-08-30/
LOCATION:Andrew J. Parise Park\, 257 Cedarhurst Ave.\, Cedarhurst\, NY\, 11516\, United States
END:VEVENT
BEGIN:VEVENT
DTSTART;TZID=America/New_York:20220830T100000
DTEND;TZID=America/New_York:20220830T170000
DTSTAMP:20260420T214258
CREATED:20220811T190225Z
LAST-MODIFIED:20220811T190225Z
UID:10000015-1661853600-1661878800@ncchambers.org
SUMMARY:Farmingville
DESCRIPTION:Farmingville Flicks – July 27-August 30 \nhttps://farmingvillechamber.com/Farmingville_Flicks_2021.html
URL:https://ncchambers.org/event/farmingville/
CATEGORIES:Movies
END:VEVENT
BEGIN:VEVENT
DTSTART;TZID=America/New_York:20220830T100000
DTEND;TZID=America/New_York:20220830T170000
DTSTAMP:20260420T214258
CREATED:20220811T162808Z
LAST-MODIFIED:20220811T162808Z
UID:10000130-1661853600-1661878800@ncchambers.org
SUMMARY:Bethpage
DESCRIPTION:Music on Broadway\, July 30th & August 20th \nhttps://www.facebook.com/BethpageChamberOfCommerce/photos/a.2975301689362432/3938314456394479
URL:https://ncchambers.org/event/bethpage/2022-08-30/
END:VEVENT
BEGIN:VEVENT
DTSTART;TZID=America/New_York:20220828T090000
DTEND;TZID=America/New_York:20220828T150000
DTSTAMP:20260420T214258
CREATED:20220811T200435Z
LAST-MODIFIED:20220811T200435Z
UID:10000027-1661677200-1661698800@ncchambers.org
SUMMARY:Village of Southampton
DESCRIPTION:Farmers & Artisans Market\, Sundays through October 9th \nhttps://southamptonchamber.com/
URL:https://ncchambers.org/event/village-of-southampton/2022-08-28/
END:VEVENT
BEGIN:VEVENT
DTSTART;TZID=America/New_York:20220828T060000
DTEND;TZID=America/New_York:20220828T100000
DTSTAMP:20260420T214258
CREATED:20220809T224840Z
LAST-MODIFIED:20220809T224840Z
UID:10000114-1661666400-1661680800@ncchambers.org
SUMMARY:Farmingdale Farmers Market
DESCRIPTION:On The Village Green\nSundays thru 11/20/22 – weather permitting\, Farmer’s Market On The Village Green. 10:00 AM – 2:00 PM. http://www.farmingdalenychamber.org/events/details/farmers-market-on-the-village-green-farmingdale-weekly-on-sundays-07-03-2022-4838
URL:https://ncchambers.org/event/farmingdale-farmers-market/2022-08-28/
END:VEVENT
BEGIN:VEVENT
DTSTART;TZID=America/New_York:20220827T190000
DTEND;TZID=America/New_York:20220827T220000
DTSTAMP:20260420T214258
CREATED:20220811T195206Z
LAST-MODIFIED:20220811T195206Z
UID:10000020-1661626800-1661637600@ncchambers.org
SUMMARY:Rocky Point
DESCRIPTION:Downtown Rocky Point Concert Series July 9th – August 27th \nhttps://events.longisland.com/site_media/images/event/photo_gallery/4097023_1_l.jpg
URL:https://ncchambers.org/event/rocky-point/
CATEGORIES:Concert,Music
END:VEVENT
END:VCALENDAR