BEGIN:VCALENDAR
VERSION:2.0
PRODID:-//Nassau Council of Chambers of Commerce - ECPv6.15.20//NONSGML v1.0//EN
CALSCALE:GREGORIAN
METHOD:PUBLISH
X-ORIGINAL-URL:https://ncchambers.org
X-WR-CALDESC:Events for Nassau Council of Chambers of Commerce
REFRESH-INTERVAL;VALUE=DURATION:PT1H
X-Robots-Tag:noindex
X-PUBLISHED-TTL:PT1H
BEGIN:VTIMEZONE
TZID:America/New_York
BEGIN:DAYLIGHT
TZOFFSETFROM:-0500
TZOFFSETTO:-0400
TZNAME:EDT
DTSTART:20210314T070000
END:DAYLIGHT
BEGIN:STANDARD
TZOFFSETFROM:-0400
TZOFFSETTO:-0500
TZNAME:EST
DTSTART:20211107T060000
END:STANDARD
BEGIN:DAYLIGHT
TZOFFSETFROM:-0500
TZOFFSETTO:-0400
TZNAME:EDT
DTSTART:20220313T070000
END:DAYLIGHT
BEGIN:STANDARD
TZOFFSETFROM:-0400
TZOFFSETTO:-0500
TZNAME:EST
DTSTART:20221106T060000
END:STANDARD
BEGIN:DAYLIGHT
TZOFFSETFROM:-0500
TZOFFSETTO:-0400
TZNAME:EDT
DTSTART:20230312T070000
END:DAYLIGHT
BEGIN:STANDARD
TZOFFSETFROM:-0400
TZOFFSETTO:-0500
TZNAME:EST
DTSTART:20231105T060000
END:STANDARD
END:VTIMEZONE
BEGIN:VEVENT
DTSTART;TZID=America/New_York:20220812T180000
DTEND;TZID=America/New_York:20220812T200000
DTSTAMP:20260421T014711
CREATED:20220811T172918Z
LAST-MODIFIED:20220811T172918Z
UID:10000160-1660327200-1660334400@ncchambers.org
SUMMARY:Village of Hempstead
DESCRIPTION:Gospel Unity Fest\, August 12th \nhttps://www.villageofhempstead.org/Calendar.aspx?EID=1507&month=8&year=2022&day=12&calType=0
URL:https://ncchambers.org/event/village-of-hempstead/
CATEGORIES:Gospel
END:VEVENT
END:VCALENDAR