BEGIN:VCALENDAR
VERSION:2.0
PRODID:-//Nassau Council of Chambers of Commerce - ECPv6.15.20//NONSGML v1.0//EN
CALSCALE:GREGORIAN
METHOD:PUBLISH
X-ORIGINAL-URL:https://ncchambers.org
X-WR-CALDESC:Events for Nassau Council of Chambers of Commerce
REFRESH-INTERVAL;VALUE=DURATION:PT1H
X-Robots-Tag:noindex
X-PUBLISHED-TTL:PT1H
BEGIN:VTIMEZONE
TZID:America/New_York
BEGIN:DAYLIGHT
TZOFFSETFROM:-0500
TZOFFSETTO:-0400
TZNAME:EDT
DTSTART:20230312T070000
END:DAYLIGHT
BEGIN:STANDARD
TZOFFSETFROM:-0400
TZOFFSETTO:-0500
TZNAME:EST
DTSTART:20231105T060000
END:STANDARD
BEGIN:DAYLIGHT
TZOFFSETFROM:-0500
TZOFFSETTO:-0400
TZNAME:EDT
DTSTART:20240310T070000
END:DAYLIGHT
BEGIN:STANDARD
TZOFFSETFROM:-0400
TZOFFSETTO:-0500
TZNAME:EST
DTSTART:20241103T060000
END:STANDARD
BEGIN:DAYLIGHT
TZOFFSETFROM:-0500
TZOFFSETTO:-0400
TZNAME:EDT
DTSTART:20250309T070000
END:DAYLIGHT
BEGIN:STANDARD
TZOFFSETFROM:-0400
TZOFFSETTO:-0500
TZNAME:EST
DTSTART:20251102T060000
END:STANDARD
END:VTIMEZONE
BEGIN:VEVENT
DTSTART;TZID=America/New_York:20240108T190000
DTEND;TZID=America/New_York:20240108T203000
DTSTAMP:20260419T190232
CREATED:20240106T193932Z
LAST-MODIFIED:20240106T194003Z
UID:10000616-1704740400-1704745800@ncchambers.org
SUMMARY:Pre BID Conference via Zoom
DESCRIPTION:There will be a Pre Bid Conference via Zoom on Monday at 7:00pm \n\nNassau Council of Chambers of Commerce is inviting you to a scheduled Zoom meeting. \nTopic: Nassau County Small Business Technical Assistance Grant\nTime: Jan 8\, 2024 07:00 PM Eastern Time (US and Canada) \nJoin Zoom Meeting\nhttps://us06web.zoom.us/j/89801035313?pwd=aCimmTtv4b9eXfAopf3FnoEbG6Y7cw.1 \nMeeting ID: 898 0103 5313\nPasscode: 589471 \n— \nOne tap mobile\n+16469313860\,\,89801035313# US\n+16465588656\,\,89801035313# US (New York) \n— \nDial by your location\n• +1 646 931 3860 US\n• +1 646 558 8656 US (New York)\n• +1 312 626 6799 US (Chicago)\n• +1 301 715 8592 US (Washington DC)\n• +1 305 224 1968 US\n• +1 309 205 3325 US\n• +1 253 205 0468 US\n• +1 253 215 8782 US (Tacoma)\n• +1 346 248 7799 US (Houston)\n• +1 360 209 5623 US\n• +1 386 347 5053 US\n• +1 507 473 4847 US\n• +1 564 217 2000 US\n• +1 669 444 9171 US\n• +1 689 278 1000 US\n• +1 719 359 4580 US\n• +1 720 707 2699 US (Denver) \nMeeting ID: 898 0103 5313 \nFind your local number: https://us06web.zoom.us/u/kbIpwYUgHI
URL:https://ncchambers.org/event/pre-bid-conference-via-zoom/
CATEGORIES:Zoom Meeting
END:VEVENT
END:VCALENDAR