BEGIN:VCALENDAR
VERSION:2.0
PRODID:-//Nassau Council of Chambers of Commerce - ECPv6.15.20//NONSGML v1.0//EN
CALSCALE:GREGORIAN
METHOD:PUBLISH
X-WR-CALNAME:Nassau Council of Chambers of Commerce
X-ORIGINAL-URL:https://ncchambers.org
X-WR-CALDESC:Events for Nassau Council of Chambers of Commerce
REFRESH-INTERVAL;VALUE=DURATION:PT1H
X-Robots-Tag:noindex
X-PUBLISHED-TTL:PT1H
BEGIN:VTIMEZONE
TZID:America/New_York
BEGIN:DAYLIGHT
TZOFFSETFROM:-0500
TZOFFSETTO:-0400
TZNAME:EDT
DTSTART:20210314T070000
END:DAYLIGHT
BEGIN:STANDARD
TZOFFSETFROM:-0400
TZOFFSETTO:-0500
TZNAME:EST
DTSTART:20211107T060000
END:STANDARD
BEGIN:DAYLIGHT
TZOFFSETFROM:-0500
TZOFFSETTO:-0400
TZNAME:EDT
DTSTART:20220313T070000
END:DAYLIGHT
BEGIN:STANDARD
TZOFFSETFROM:-0400
TZOFFSETTO:-0500
TZNAME:EST
DTSTART:20221106T060000
END:STANDARD
BEGIN:DAYLIGHT
TZOFFSETFROM:-0500
TZOFFSETTO:-0400
TZNAME:EDT
DTSTART:20230312T070000
END:DAYLIGHT
BEGIN:STANDARD
TZOFFSETFROM:-0400
TZOFFSETTO:-0500
TZNAME:EST
DTSTART:20231105T060000
END:STANDARD
END:VTIMEZONE
BEGIN:VEVENT
DTSTART;TZID=America/New_York:20221126T070000
DTEND;TZID=America/New_York:20221126T120000
DTSTAMP:20260421T201819
CREATED:20220811T182435Z
LAST-MODIFIED:20220811T182435Z
UID:10000108-1669446000-1669464000@ncchambers.org
SUMMARY:Vlllage of Rockville Centre - Chamber of Commerce Farmers Market
DESCRIPTION:Every Sunday from 7 AM to noon\, through December 18\, 2022\, at Municipal Parking Field 12\, along the north side of Sunrise Highway\, between Long Beach Road and North Forest Avenue. https://www.facebook.com/RVCChamberofCommerce
URL:https://ncchambers.org/event/vlllage-of-rockville-centre-chamber-of-commerce-farmers-market/2022-11-26/
CATEGORIES:Farmers Market
END:VEVENT
BEGIN:VEVENT
DTSTART;TZID=America/New_York:20221126T090000
DTEND;TZID=America/New_York:20221126T130000
DTSTAMP:20260421T201819
CREATED:20220811T200654Z
LAST-MODIFIED:20220811T200654Z
UID:10000049-1669453200-1669467600@ncchambers.org
SUMMARY:St. James - Farmers and Artisan Market
DESCRIPTION:Where: 230 2nd Ave\, St James\, 9 AM to 1 PM\, Saturday mornings through November. Hosted by Community Association of St. James https://www.facebook.com/CAGStJ
URL:https://ncchambers.org/event/st-james-farmers-and-artisan-market/2022-11-26/
CATEGORIES:Farmers Market
END:VEVENT
BEGIN:VEVENT
DTSTART;TZID=America/New_York:20221126T123000
DTEND;TZID=America/New_York:20221126T173000
DTSTAMP:20260421T201819
CREATED:20221120T194909Z
LAST-MODIFIED:20221120T204531Z
UID:10000236-1669465800-1669483800@ncchambers.org
SUMMARY:Wantagh Chamber Winter Wonderland
DESCRIPTION:
URL:https://ncchambers.org/event/wantagh-chamber-winter-wonderland/
LOCATION:Wantagh Preservation Society\, 1700 Wantagh Ave.\, Wantagh\, NY\, 11793\, United States
CATEGORIES:Chamber Event
END:VEVENT
END:VCALENDAR