BEGIN:VCALENDAR
VERSION:2.0
PRODID:-//Nassau Council of Chambers of Commerce - ECPv6.15.20//NONSGML v1.0//EN
CALSCALE:GREGORIAN
METHOD:PUBLISH
X-WR-CALNAME:Nassau Council of Chambers of Commerce
X-ORIGINAL-URL:https://ncchambers.org
X-WR-CALDESC:Events for Nassau Council of Chambers of Commerce
REFRESH-INTERVAL;VALUE=DURATION:PT1H
X-Robots-Tag:noindex
X-PUBLISHED-TTL:PT1H
BEGIN:VTIMEZONE
TZID:America/New_York
BEGIN:DAYLIGHT
TZOFFSETFROM:-0500
TZOFFSETTO:-0400
TZNAME:EDT
DTSTART:20210314T070000
END:DAYLIGHT
BEGIN:STANDARD
TZOFFSETFROM:-0400
TZOFFSETTO:-0500
TZNAME:EST
DTSTART:20211107T060000
END:STANDARD
BEGIN:DAYLIGHT
TZOFFSETFROM:-0500
TZOFFSETTO:-0400
TZNAME:EDT
DTSTART:20220313T070000
END:DAYLIGHT
BEGIN:STANDARD
TZOFFSETFROM:-0400
TZOFFSETTO:-0500
TZNAME:EST
DTSTART:20221106T060000
END:STANDARD
BEGIN:DAYLIGHT
TZOFFSETFROM:-0500
TZOFFSETTO:-0400
TZNAME:EDT
DTSTART:20230312T070000
END:DAYLIGHT
BEGIN:STANDARD
TZOFFSETFROM:-0400
TZOFFSETTO:-0500
TZNAME:EST
DTSTART:20231105T060000
END:STANDARD
END:VTIMEZONE
BEGIN:VEVENT
DTSTART;VALUE=DATE:20221120
DTEND;VALUE=DATE:20221121
DTSTAMP:20260421T201821
CREATED:20221120T194657Z
LAST-MODIFIED:20221120T204246Z
UID:10000235-1668902400-1668988799@ncchambers.org
SUMMARY:Freeport Thanksgiving Food Drive
DESCRIPTION:
URL:https://ncchambers.org/event/freeport-thanksgiving-food-drive/
LOCATION:Boss Babies Learning Academy\, 393 West Sunrise Highway\, Freeport\, NY\, 11520\, United States
CATEGORIES:Chamber Event
END:VEVENT
BEGIN:VEVENT
DTSTART;TZID=America/New_York:20221120T050000
DTEND;TZID=America/New_York:20221120T090000
DTSTAMP:20260421T201821
CREATED:20220809T224840Z
LAST-MODIFIED:20220809T224840Z
UID:10000126-1668920400-1668934800@ncchambers.org
SUMMARY:Farmingdale Farmers Market
DESCRIPTION:On The Village Green\nSundays thru 11/20/22 – weather permitting\, Farmer’s Market On The Village Green. 10:00 AM – 2:00 PM. http://www.farmingdalenychamber.org/events/details/farmers-market-on-the-village-green-farmingdale-weekly-on-sundays-07-03-2022-4838
URL:https://ncchambers.org/event/farmingdale-farmers-market/2022-11-20/
END:VEVENT
BEGIN:VEVENT
DTSTART;TZID=America/New_York:20221120T080000
DTEND;TZID=America/New_York:20221120T170000
DTSTAMP:20260421T201821
CREATED:20221120T181832Z
LAST-MODIFIED:20221120T204547Z
UID:10000233-1668931200-1668963600@ncchambers.org
SUMMARY:32nd Annual Gala Awards & Toy Drive
DESCRIPTION:
URL:https://ncchambers.org/event/32nd-annual-gala-awards-toy-drive/
CATEGORIES:Chamber Event
END:VEVENT
BEGIN:VEVENT
DTSTART;TZID=America/New_York:20221120T100000
DTEND;TZID=America/New_York:20221120T140000
DTSTAMP:20260421T201821
CREATED:20220811T165018Z
LAST-MODIFIED:20220811T165018Z
UID:10000060-1668938400-1668952800@ncchambers.org
SUMMARY:Village of Farmingdale - Farmers Market On The Village Green
DESCRIPTION:Sundays thru 11/20/22 – weather permitting\, Farmer’s Market On The Village Green. 10:00 AM – 2:00 PM. http://www.farmingdalenychamber.org/events/details/farmers-market-on-the-village-green-farmingdale-weekly-on-sundays-07-03-2022-4838
URL:https://ncchambers.org/event/village-of-farmingdale-farmers-market-on-the-village-green/
CATEGORIES:Farmers Market
END:VEVENT
END:VCALENDAR