BEGIN:VCALENDAR
VERSION:2.0
PRODID:-//Nassau Council of Chambers of Commerce - ECPv6.15.20//NONSGML v1.0//EN
CALSCALE:GREGORIAN
METHOD:PUBLISH
X-WR-CALNAME:Nassau Council of Chambers of Commerce
X-ORIGINAL-URL:https://ncchambers.org
X-WR-CALDESC:Events for Nassau Council of Chambers of Commerce
REFRESH-INTERVAL;VALUE=DURATION:PT1H
X-Robots-Tag:noindex
X-PUBLISHED-TTL:PT1H
BEGIN:VTIMEZONE
TZID:America/New_York
BEGIN:DAYLIGHT
TZOFFSETFROM:-0500
TZOFFSETTO:-0400
TZNAME:EDT
DTSTART:20210314T070000
END:DAYLIGHT
BEGIN:STANDARD
TZOFFSETFROM:-0400
TZOFFSETTO:-0500
TZNAME:EST
DTSTART:20211107T060000
END:STANDARD
BEGIN:DAYLIGHT
TZOFFSETFROM:-0500
TZOFFSETTO:-0400
TZNAME:EDT
DTSTART:20220313T070000
END:DAYLIGHT
BEGIN:STANDARD
TZOFFSETFROM:-0400
TZOFFSETTO:-0500
TZNAME:EST
DTSTART:20221106T060000
END:STANDARD
BEGIN:DAYLIGHT
TZOFFSETFROM:-0500
TZOFFSETTO:-0400
TZNAME:EDT
DTSTART:20230312T070000
END:DAYLIGHT
BEGIN:STANDARD
TZOFFSETFROM:-0400
TZOFFSETTO:-0500
TZNAME:EST
DTSTART:20231105T060000
END:STANDARD
END:VTIMEZONE
BEGIN:VEVENT
DTSTART;TZID=America/New_York:20221106T050000
DTEND;TZID=America/New_York:20221106T090000
DTSTAMP:20260421T201830
CREATED:20220809T224840Z
LAST-MODIFIED:20220809T224840Z
UID:10000124-1667710800-1667725200@ncchambers.org
SUMMARY:Farmingdale Farmers Market
DESCRIPTION:On The Village Green\nSundays thru 11/20/22 – weather permitting\, Farmer’s Market On The Village Green. 10:00 AM – 2:00 PM. http://www.farmingdalenychamber.org/events/details/farmers-market-on-the-village-green-farmingdale-weekly-on-sundays-07-03-2022-4838
URL:https://ncchambers.org/event/farmingdale-farmers-market/2022-11-06/
END:VEVENT
END:VCALENDAR