BEGIN:VCALENDAR
VERSION:2.0
PRODID:-//Nassau Council of Chambers of Commerce - ECPv6.15.20//NONSGML v1.0//EN
CALSCALE:GREGORIAN
METHOD:PUBLISH
X-WR-CALNAME:Nassau Council of Chambers of Commerce
X-ORIGINAL-URL:https://ncchambers.org
X-WR-CALDESC:Events for Nassau Council of Chambers of Commerce
REFRESH-INTERVAL;VALUE=DURATION:PT1H
X-Robots-Tag:noindex
X-PUBLISHED-TTL:PT1H
BEGIN:VTIMEZONE
TZID:America/New_York
BEGIN:DAYLIGHT
TZOFFSETFROM:-0500
TZOFFSETTO:-0400
TZNAME:EDT
DTSTART:20210314T070000
END:DAYLIGHT
BEGIN:STANDARD
TZOFFSETFROM:-0400
TZOFFSETTO:-0500
TZNAME:EST
DTSTART:20211107T060000
END:STANDARD
BEGIN:DAYLIGHT
TZOFFSETFROM:-0500
TZOFFSETTO:-0400
TZNAME:EDT
DTSTART:20220313T070000
END:DAYLIGHT
BEGIN:STANDARD
TZOFFSETFROM:-0400
TZOFFSETTO:-0500
TZNAME:EST
DTSTART:20221106T060000
END:STANDARD
BEGIN:DAYLIGHT
TZOFFSETFROM:-0500
TZOFFSETTO:-0400
TZNAME:EDT
DTSTART:20230312T070000
END:DAYLIGHT
BEGIN:STANDARD
TZOFFSETFROM:-0400
TZOFFSETTO:-0500
TZNAME:EST
DTSTART:20231105T060000
END:STANDARD
END:VTIMEZONE
BEGIN:VEVENT
DTSTART;VALUE=DATE:20220922
DTEND;VALUE=DATE:20220926
DTSTAMP:20260422T011632
CREATED:20220811T163650Z
LAST-MODIFIED:20220826T144815Z
UID:10000132-1663804800-1664150399@ncchambers.org
SUMMARY:Bellmore - Family Street Festival
DESCRIPTION:Save the Date\, September 22nd through September 25th. https://www.bellmorechamber.com/general-information
URL:https://ncchambers.org/event/bellmore-family-street-festival-2/2022-09-22/
CATEGORIES:Street Festival
END:VEVENT
BEGIN:VEVENT
DTSTART;VALUE=DATE:20220923
DTEND;VALUE=DATE:20220927
DTSTAMP:20260422T011632
CREATED:20220811T163650Z
LAST-MODIFIED:20220826T144815Z
UID:10000133-1663891200-1664236799@ncchambers.org
SUMMARY:Bellmore - Family Street Festival
DESCRIPTION:Save the Date\, September 22nd through September 25th. https://www.bellmorechamber.com/general-information
URL:https://ncchambers.org/event/bellmore-family-street-festival-2/2022-09-23/
CATEGORIES:Street Festival
END:VEVENT
BEGIN:VEVENT
DTSTART;VALUE=DATE:20220924
DTEND;VALUE=DATE:20220928
DTSTAMP:20260422T011632
CREATED:20220811T163650Z
LAST-MODIFIED:20220826T144815Z
UID:10000134-1663977600-1664323199@ncchambers.org
SUMMARY:Bellmore - Family Street Festival
DESCRIPTION:Save the Date\, September 22nd through September 25th. https://www.bellmorechamber.com/general-information
URL:https://ncchambers.org/event/bellmore-family-street-festival-2/2022-09-24/
CATEGORIES:Street Festival
END:VEVENT
BEGIN:VEVENT
DTSTART;VALUE=DATE:20220925
DTEND;VALUE=DATE:20220929
DTSTAMP:20260422T011632
CREATED:20220811T163650Z
LAST-MODIFIED:20220826T144815Z
UID:10000135-1664064000-1664409599@ncchambers.org
SUMMARY:Bellmore - Family Street Festival
DESCRIPTION:Save the Date\, September 22nd through September 25th. https://www.bellmorechamber.com/general-information
URL:https://ncchambers.org/event/bellmore-family-street-festival-2/2022-09-25/
CATEGORIES:Street Festival
END:VEVENT
BEGIN:VEVENT
DTSTART;TZID=America/New_York:20220925T060000
DTEND;TZID=America/New_York:20220925T100000
DTSTAMP:20260422T011632
CREATED:20220809T224840Z
LAST-MODIFIED:20220809T224840Z
UID:10000118-1664085600-1664100000@ncchambers.org
SUMMARY:Farmingdale Farmers Market
DESCRIPTION:On The Village Green\nSundays thru 11/20/22 – weather permitting\, Farmer’s Market On The Village Green. 10:00 AM – 2:00 PM. http://www.farmingdalenychamber.org/events/details/farmers-market-on-the-village-green-farmingdale-weekly-on-sundays-07-03-2022-4838
URL:https://ncchambers.org/event/farmingdale-farmers-market/2022-09-25/
END:VEVENT
BEGIN:VEVENT
DTSTART;TZID=America/New_York:20220925T090000
DTEND;TZID=America/New_York:20220925T150000
DTSTAMP:20260422T011632
CREATED:20220811T200435Z
LAST-MODIFIED:20220811T200435Z
UID:10000031-1664096400-1664118000@ncchambers.org
SUMMARY:Village of Southampton
DESCRIPTION:Farmers & Artisans Market\, Sundays through October 9th \nhttps://southamptonchamber.com/
URL:https://ncchambers.org/event/village-of-southampton/2022-09-25/
END:VEVENT
BEGIN:VEVENT
DTSTART;TZID=America/New_York:20220925T100000
DTEND;TZID=America/New_York:20220925T170000
DTSTAMP:20260422T011632
CREATED:20220811T193050Z
LAST-MODIFIED:20220811T193050Z
UID:10000208-1664100000-1664125200@ncchambers.org
SUMMARY:Middle Island
DESCRIPTION:Longwood Fair \nhttps://www.brookhavenny.gov/242/Longwood-Fair
URL:https://ncchambers.org/event/middle-island/2022-09-25/
CATEGORIES:Fair
END:VEVENT
END:VCALENDAR