BEGIN:VCALENDAR
VERSION:2.0
PRODID:-//Nassau Council of Chambers of Commerce - ECPv6.15.20//NONSGML v1.0//EN
CALSCALE:GREGORIAN
METHOD:PUBLISH
X-WR-CALNAME:Nassau Council of Chambers of Commerce
X-ORIGINAL-URL:https://ncchambers.org
X-WR-CALDESC:Events for Nassau Council of Chambers of Commerce
REFRESH-INTERVAL;VALUE=DURATION:PT1H
X-Robots-Tag:noindex
X-PUBLISHED-TTL:PT1H
BEGIN:VTIMEZONE
TZID:America/New_York
BEGIN:DAYLIGHT
TZOFFSETFROM:-0500
TZOFFSETTO:-0400
TZNAME:EDT
DTSTART:20210314T070000
END:DAYLIGHT
BEGIN:STANDARD
TZOFFSETFROM:-0400
TZOFFSETTO:-0500
TZNAME:EST
DTSTART:20211107T060000
END:STANDARD
BEGIN:DAYLIGHT
TZOFFSETFROM:-0500
TZOFFSETTO:-0400
TZNAME:EDT
DTSTART:20220313T070000
END:DAYLIGHT
BEGIN:STANDARD
TZOFFSETFROM:-0400
TZOFFSETTO:-0500
TZNAME:EST
DTSTART:20221106T060000
END:STANDARD
BEGIN:DAYLIGHT
TZOFFSETFROM:-0500
TZOFFSETTO:-0400
TZNAME:EDT
DTSTART:20230312T070000
END:DAYLIGHT
BEGIN:STANDARD
TZOFFSETFROM:-0400
TZOFFSETTO:-0500
TZNAME:EST
DTSTART:20231105T060000
END:STANDARD
END:VTIMEZONE
BEGIN:VEVENT
DTSTART;TZID=America/New_York:20220811T183000
DTEND;TZID=America/New_York:20220918T213000
DTSTAMP:20260422T011637
CREATED:20220811T192622Z
LAST-MODIFIED:20220825T184803Z
UID:10000204-1660242600-1663536600@ncchambers.org
SUMMARY:Smith Point Summer 2022 Music Schedule – Tiki Joes Beach Club
DESCRIPTION:Smith Point Summer 2022 Music Schedule – Tiki Joes Beach Club
URL:https://ncchambers.org/event/aug-11th-sept-18th-tiki-joes-beach-club-summer-music-calendar/
CATEGORIES:Music
END:VEVENT
BEGIN:VEVENT
DTSTART;VALUE=DATE:20220915
DTEND;VALUE=DATE:20220919
DTSTAMP:20260422T011637
CREATED:20220811T164329Z
LAST-MODIFIED:20220811T164329Z
UID:10000148-1663200000-1663545599@ncchambers.org
SUMMARY:East Meadow – Chamber of Commerce Fall Festival
DESCRIPTION:September 15th – 18th. Eisenhower Park. https://www.eastmeadowchamber.com/
URL:https://ncchambers.org/event/east-meadow-chamber-of-commerce-fall-festival-2/
CATEGORIES:Street Festival
END:VEVENT
BEGIN:VEVENT
DTSTART;TZID=America/New_York:20220915T140000
DTEND;TZID=America/New_York:20220918T180000
DTSTAMP:20260422T011637
CREATED:20220809T220749Z
LAST-MODIFIED:20220826T163449Z
UID:10000184-1663250400-1663524000@ncchambers.org
SUMMARY:East Meadow Chamber of Commerce Fall Festival
DESCRIPTION:https://www.eastmeadowchamber.com/
URL:https://ncchambers.org/event/east-meadow-chamber-of-commerce-fall-festival/2022-09-15/
LOCATION:Eisenhower Park
END:VEVENT
BEGIN:VEVENT
DTSTART;TZID=America/New_York:20220916T140000
DTEND;TZID=America/New_York:20220919T180000
DTSTAMP:20260422T011637
CREATED:20220809T220749Z
LAST-MODIFIED:20220826T163449Z
UID:10000185-1663336800-1663610400@ncchambers.org
SUMMARY:East Meadow Chamber of Commerce Fall Festival
DESCRIPTION:https://www.eastmeadowchamber.com/
URL:https://ncchambers.org/event/east-meadow-chamber-of-commerce-fall-festival/2022-09-16/
LOCATION:Eisenhower Park
END:VEVENT
BEGIN:VEVENT
DTSTART;TZID=America/New_York:20220917T140000
DTEND;TZID=America/New_York:20220920T180000
DTSTAMP:20260422T011637
CREATED:20220809T220749Z
LAST-MODIFIED:20220826T163449Z
UID:10000186-1663423200-1663696800@ncchambers.org
SUMMARY:East Meadow Chamber of Commerce Fall Festival
DESCRIPTION:https://www.eastmeadowchamber.com/
URL:https://ncchambers.org/event/east-meadow-chamber-of-commerce-fall-festival/2022-09-17/
LOCATION:Eisenhower Park
END:VEVENT
BEGIN:VEVENT
DTSTART;TZID=America/New_York:20220918T060000
DTEND;TZID=America/New_York:20220918T100000
DTSTAMP:20260422T011637
CREATED:20220809T224840Z
LAST-MODIFIED:20220809T224840Z
UID:10000117-1663480800-1663495200@ncchambers.org
SUMMARY:Farmingdale Farmers Market
DESCRIPTION:On The Village Green\nSundays thru 11/20/22 – weather permitting\, Farmer’s Market On The Village Green. 10:00 AM – 2:00 PM. http://www.farmingdalenychamber.org/events/details/farmers-market-on-the-village-green-farmingdale-weekly-on-sundays-07-03-2022-4838
URL:https://ncchambers.org/event/farmingdale-farmers-market/2022-09-18/
END:VEVENT
BEGIN:VEVENT
DTSTART;TZID=America/New_York:20220918T090000
DTEND;TZID=America/New_York:20220918T150000
DTSTAMP:20260422T011637
CREATED:20220811T200435Z
LAST-MODIFIED:20220811T200435Z
UID:10000030-1663491600-1663513200@ncchambers.org
SUMMARY:Village of Southampton
DESCRIPTION:Farmers & Artisans Market\, Sundays through October 9th \nhttps://southamptonchamber.com/
URL:https://ncchambers.org/event/village-of-southampton/2022-09-18/
END:VEVENT
BEGIN:VEVENT
DTSTART;TZID=America/New_York:20220918T100000
DTEND;TZID=America/New_York:20220918T170000
DTSTAMP:20260422T011637
CREATED:20220811T182559Z
LAST-MODIFIED:20220811T182618Z
UID:10000129-1663495200-1663520400@ncchambers.org
SUMMARY:Syosset/Woodbury – Chamber of Commerce Street Fair
DESCRIPTION:September 18 @ 10:00 AM – 5:00 PM. 59 Jackson Avenue\, Syosset. https://www.syossetchamber.com/2022-street-fair-sponsor-levels/
URL:https://ncchambers.org/event/syosset-woodbury-chamber-of-commerce-street-fair/
CATEGORIES:Fair
END:VEVENT
BEGIN:VEVENT
DTSTART;TZID=America/New_York:20220918T110000
DTEND;TZID=America/New_York:20220918T150000
DTSTAMP:20260422T011637
CREATED:20220811T181542Z
LAST-MODIFIED:20220811T181542Z
UID:10000071-1663498800-1663513200@ncchambers.org
SUMMARY:Oyster Bay Main Street Association - The Oyster Bay Market
DESCRIPTION:Sundays\, 11 AM to 3 PM\, in front of Town Hall\, 74 Audrey Avenue\, Oyster Bay. Runs through November 13th. https://www.oysterbaymainstreet.org/oyster-bay-market.html
URL:https://ncchambers.org/event/oyster-bay-main-street-association-the-oyster-bay-market/2022-09-18/
CATEGORIES:Market
END:VEVENT
BEGIN:VEVENT
DTSTART;TZID=America/New_York:20220918T140000
DTEND;TZID=America/New_York:20220921T180000
DTSTAMP:20260422T011637
CREATED:20220809T220749Z
LAST-MODIFIED:20220826T163449Z
UID:10000187-1663509600-1663783200@ncchambers.org
SUMMARY:East Meadow Chamber of Commerce Fall Festival
DESCRIPTION:https://www.eastmeadowchamber.com/
URL:https://ncchambers.org/event/east-meadow-chamber-of-commerce-fall-festival/2022-09-18/
LOCATION:Eisenhower Park
END:VEVENT
BEGIN:VEVENT
DTSTART;TZID=America/New_York:20220918T153000
DTEND;TZID=America/New_York:20220918T193000
DTSTAMP:20260422T011637
CREATED:20220811T175441Z
LAST-MODIFIED:20220811T175441Z
UID:10000193-1663515000-1663529400@ncchambers.org
SUMMARY:Manhasset
DESCRIPTION:Manhasset Al Fresco\, Outdoor Dining\, Shopping\, Live Entertainment\, July 10\, 24\, August 13th\, Sept.. 18th \nhttps://www.shopmanhasset.com/
URL:https://ncchambers.org/event/manhasset/2022-09-18/
CATEGORIES:Dining Shopping Entertainment
END:VEVENT
END:VCALENDAR