BEGIN:VCALENDAR
VERSION:2.0
PRODID:-//Nassau Council of Chambers of Commerce - ECPv6.15.20//NONSGML v1.0//EN
CALSCALE:GREGORIAN
METHOD:PUBLISH
X-WR-CALNAME:Nassau Council of Chambers of Commerce
X-ORIGINAL-URL:https://ncchambers.org
X-WR-CALDESC:Events for Nassau Council of Chambers of Commerce
REFRESH-INTERVAL;VALUE=DURATION:PT1H
X-Robots-Tag:noindex
X-PUBLISHED-TTL:PT1H
BEGIN:VTIMEZONE
TZID:America/New_York
BEGIN:DAYLIGHT
TZOFFSETFROM:-0500
TZOFFSETTO:-0400
TZNAME:EDT
DTSTART:20210314T070000
END:DAYLIGHT
BEGIN:STANDARD
TZOFFSETFROM:-0400
TZOFFSETTO:-0500
TZNAME:EST
DTSTART:20211107T060000
END:STANDARD
BEGIN:DAYLIGHT
TZOFFSETFROM:-0500
TZOFFSETTO:-0400
TZNAME:EDT
DTSTART:20220313T070000
END:DAYLIGHT
BEGIN:STANDARD
TZOFFSETFROM:-0400
TZOFFSETTO:-0500
TZNAME:EST
DTSTART:20221106T060000
END:STANDARD
BEGIN:DAYLIGHT
TZOFFSETFROM:-0500
TZOFFSETTO:-0400
TZNAME:EDT
DTSTART:20230312T070000
END:DAYLIGHT
BEGIN:STANDARD
TZOFFSETFROM:-0400
TZOFFSETTO:-0500
TZNAME:EST
DTSTART:20231105T060000
END:STANDARD
END:VTIMEZONE
BEGIN:VEVENT
DTSTART;TZID=America/New_York:20220811T183000
DTEND;TZID=America/New_York:20220918T213000
DTSTAMP:20260422T055420
CREATED:20220811T192622Z
LAST-MODIFIED:20220825T184803Z
UID:10000204-1660242600-1663536600@ncchambers.org
SUMMARY:Smith Point Summer 2022 Music Schedule – Tiki Joes Beach Club
DESCRIPTION:Smith Point Summer 2022 Music Schedule – Tiki Joes Beach Club
URL:https://ncchambers.org/event/aug-11th-sept-18th-tiki-joes-beach-club-summer-music-calendar/
CATEGORIES:Music
END:VEVENT
BEGIN:VEVENT
DTSTART;TZID=America/New_York:20220911T060000
DTEND;TZID=America/New_York:20220911T100000
DTSTAMP:20260422T055420
CREATED:20220809T224840Z
LAST-MODIFIED:20220809T224840Z
UID:10000116-1662876000-1662890400@ncchambers.org
SUMMARY:Farmingdale Farmers Market
DESCRIPTION:On The Village Green\nSundays thru 11/20/22 – weather permitting\, Farmer’s Market On The Village Green. 10:00 AM – 2:00 PM. http://www.farmingdalenychamber.org/events/details/farmers-market-on-the-village-green-farmingdale-weekly-on-sundays-07-03-2022-4838
URL:https://ncchambers.org/event/farmingdale-farmers-market/2022-09-11/
END:VEVENT
BEGIN:VEVENT
DTSTART;TZID=America/New_York:20220911T083000
DTEND;TZID=America/New_York:20220911T200000
DTSTAMP:20260422T055420
CREATED:20220811T195630Z
LAST-MODIFIED:20220811T195630Z
UID:10000022-1662885000-1662926400@ncchambers.org
SUMMARY:Village of Sag Harbor - Chamber of Commerce HarborFest 2022
DESCRIPTION:Saturday and Sunday September 10th and 11th\, with the village’s rich maritime history on full display all weekend long. Long Wharf will be filled with live music\, kids’ activities\, great food\, beer and wine and dozens of vendors representing Sag Harbor’s rich cultural and artistic history. https://sagharborchamber.com/events/harborfest/
URL:https://ncchambers.org/event/village-of-sag-harbor-chamber-of-commerce-harborfest-2022/2022-09-11/
CATEGORIES:Art Festival,Fair
END:VEVENT
BEGIN:VEVENT
DTSTART;TZID=America/New_York:20220911T090000
DTEND;TZID=America/New_York:20220911T150000
DTSTAMP:20260422T055420
CREATED:20220811T200435Z
LAST-MODIFIED:20220811T200435Z
UID:10000029-1662886800-1662908400@ncchambers.org
SUMMARY:Village of Southampton
DESCRIPTION:Farmers & Artisans Market\, Sundays through October 9th \nhttps://southamptonchamber.com/
URL:https://ncchambers.org/event/village-of-southampton/2022-09-11/
END:VEVENT
BEGIN:VEVENT
DTSTART;TZID=America/New_York:20220911T100000
DTEND;TZID=America/New_York:20220911T170000
DTSTAMP:20260422T055420
CREATED:20220811T185741Z
LAST-MODIFIED:20220811T185741Z
UID:10000014-1662890400-1662915600@ncchambers.org
SUMMARY:East Northport - Chamber of Commerce 2022 Festival
DESCRIPTION:September 9th\, 10th\, & 11th 2022. John J. Walsh Memorial Park and on Larkfield Road from Pulaski Road. Fine Art\, Crafts\, Gifts & Specialty/Gourmet Foods. https://www.eastnorthport.com/2022-festival
URL:https://ncchambers.org/event/east-northport-chamber-of-commerce-2022-festival/2022-09-11/
CATEGORIES:Festival
END:VEVENT
END:VCALENDAR